BEGIN:VCALENDAR
VERSION:2.0
PRODID:-//ChamberMaster//Event Calendar 2.0//EN
METHOD:PUBLISH
X-PUBLISHED-TTL:P3D
REFRESH-INTERVAL:P3D
CALSCALE:GREGORIAN
BEGIN:VEVENT
DTSTART:20190907T140000Z
DTEND:20190907T170000Z
X-MICROSOFT-CDO-ALLDAYEVENT:FALSE
SUMMARY:On-Site Shred Event
DESCRIPTION:Dorr Township is holding a shred event.  Bring your old bank statements\, junk mail\, etc. Only paper material will be accepted.  Documents will be shredded on-site by Iron Mountain.  For more information please contact supervisor@dorrtownship.com or call 815-338-0125.
X-ALT-DESC;FMTTYPE=text/html:Dorr Township is holding a shred event.&nbsp\; Bring your old bank statements\, junk mail\, etc. Only paper material will be accepted.&nbsp\; Documents will be shredded on-site by Iron Mountain.&nbsp\; For more information please contact <a href="mailto:supervisor@dorrtownship.com">supervisor@dorrtownship.com</a> or call 815-338-0125.
LOCATION:Dorr Township Office 1039 Lake Ave. Woodstock\, IL 60098
UID:e.2851.10227
SEQUENCE:3
DTSTAMP:20260423T105456Z
URL:https://business.woodstockilchamber.com/events/details/on-site-shred-event-10227
END:VEVENT

END:VCALENDAR
