BEGIN:VCALENDAR
VERSION:2.0
PRODID:-//ChamberMaster//Event Calendar 2.0//EN
METHOD:PUBLISH
X-PUBLISHED-TTL:P3D
REFRESH-INTERVAL:P3D
CALSCALE:GREGORIAN
BEGIN:VEVENT
DTSTART:20191117T010000Z
DTEND:20191117T030000Z
X-MICROSOFT-CDO-ALLDAYEVENT:FALSE
SUMMARY:One Man\, Two Guvnors
DESCRIPTION:A THEATRE CINEMA BROADCAST\n\nSaturday\, November 16\, 2019 at 7:00 PM\n\nONE MAN\, TWO GUVNORS\n\nBY RICHARD BEAN BASED ON 'THE SERVANT OF TWO MASTERS' BY CARLO GOLDONI\, WITH SONGS BY GRANT OLDING\n\nFeaturing a Tony Award-winning performance from host of the The Late Late Show\, James Corden\, the hilarious West End and Broadway hit One Man\, Two Guvnors returns to cinemas to mark National Theatre Live's 10th birthday.\n\nFired from his skiffle band\, Francis Henshall becomes minder to Roscoe Crabbe\, a small time East End hood\, now in Brighton to collect  6\,000 from his fianc e's dad. But Roscoe is really his sister Rachel posing as her own dead brother\, who's been killed by her boyfriend Stanley Stubbers.   Holed up at The Cricketers' Arms\, the permanently ravenous Francis spots the chance of an extra meal ticket and takes a second job with one Stanley Stubbers\, who is hiding from the police and waiting to be re-united with Rachel. To prevent discovery\, Francis must keep his two guvnors apart. Simple.\n\n \n\n?????\n\n'James Corden is a hit.' Sunday Times\n\n?????\n\n'The funniest show on the planet.' Daily Mail\n\n?????\n\n'Wildly funny comedy.' The Times\n\nRATED PG-15
X-ALT-DESC;FMTTYPE=text/html:<h2>A THEATRE&nbsp\;CINEMA BROADCAST</h2>\n\n<h2>Saturday\, November 16\,&nbsp\;2019&nbsp\;at 7:00 PM</h2>\n\n<h5>ONE MAN\, TWO GUVNORS<br />\nBY RICHARD BEAN BASED ON &#39\;THE SERVANT OF TWO MASTERS&#39\; BY CARLO GOLDONI\, WITH SONGS BY GRANT OLDING</h5>\n\n<p>Featuring a Tony Award-winning performance from host of the The Late Late Show\, James Corden\, the hilarious West End and Broadway hit One Man\, Two Guvnors returns to cinemas to mark National Theatre Live&rsquo\;s 10th birthday.</p>\n\n<p>Fired from his skiffle band\, Francis Henshall becomes minder to Roscoe Crabbe\, a small time East End hood\, now in Brighton to collect &pound\;6\,000 from his fianc&eacute\;e&rsquo\;s dad. But Roscoe is really his sister Rachel posing as her own dead brother\, who&rsquo\;s been killed by her boyfriend Stanley Stubbers.&nbsp\; &nbsp\;Holed up at The Cricketers&rsquo\; Arms\, the permanently ravenous Francis spots the chance of an extra meal ticket and takes a second job with one Stanley Stubbers\, who is hiding from the police and waiting to be re-united with Rachel. To prevent discovery\, Francis must keep his two guvnors apart. Simple.</p>\n\n<p>&nbsp\;</p>\n\n<h2>?????</h2>\n\n<h2>&lsquo\;James Corden is a hit.&rsquo\; Sunday Times</h2>\n\n<h2>?????</h2>\n\n<h2>&lsquo\;The funniest show on the planet.&rsquo\; Daily Mail</h2>\n\n<h2>?????<br />\n&lsquo\;Wildly funny comedy.&rsquo\; The Times</h2>\n\n<h3>RATED PG-15</h3>\n
LOCATION:Woodstock Opera House 121 W Van Buren Street Woodstock\, IL 60098
UID:e.2851.10406
SEQUENCE:3
DTSTAMP:20260423T071311Z
URL:https://business.woodstockilchamber.com/events/details/one-man-two-guvnors-10406
END:VEVENT

END:VCALENDAR
