BEGIN:VCALENDAR
VERSION:2.0
PRODID:-//ChamberMaster//Event Calendar 2.0//EN
METHOD:PUBLISH
X-PUBLISHED-TTL:P3D
REFRESH-INTERVAL:P3D
CALSCALE:GREGORIAN
BEGIN:VEVENT
DTSTART:20191005T120000Z
DTEND:20191005T160000Z
X-MICROSOFT-CDO-ALLDAYEVENT:FALSE
SUMMARY:Panting For Paws 5K & 1 Mile Family Walk/Run
DESCRIPTION:Join us for the 13 th annual Panting for Paws 5K and 1 Mile Family\n\nRun/Walk at Lippold Park in Crystal Lake on Saturday\, October 5\,\n\n2019. This event is for runners and walkers of all ages and fitness\n\nlevels who want to support homeless animals!\n\nFeeling competitive? The 5K is for runners and walkers. Your race will\n\nbe chip timed (CARA certified). For the 5K race\, medals and prizes will\n\nbe awarded to top female and top male runner. Medals will also be\n\nawarded to the top three female and top three male finishers in the 5K\n\nin the following age categories: 14 and under\, 15-19\, 20-24\, 25-29\,\n\n30-39\, 40-49\, 50-54\, 55-59\, 60-64\, 65-69\, 70-79\, 80 & over.\n\nDon't feel like running a 5K? Sign up for the 1 Mile Family Run/Walk.\n\nThis event is untimed and you can participate with your dog(s) too!\n\nGet all the awesome perks including a long sleeve performance shirt\n\nand hang out with your BFF (best furry friend)! There is no additional\n\ncost for dogs. NOTE: Well-behaved and socialized dogs who are 6\n\nmonths and older are welcome to participate. Only 1 dog per adult\n\nhandler and ALL dogs MUST always be on leash (no longer than 6 )\n\nduring the event and while at Lippold Park.\n\nParticipants can run individually or even form a team with family\, friends\n\nor co-workers. You can even set up your own fundraising page to\n\ngather donations and help raise even more for the animals at Helping\n\nPaws. After the races and during the awards ceremony\, everyone is\n\nwelcome to join us for refreshments. We will be also be serving beer\n\n(for participants who are 21+). Of course\, there will be other snacks\n\nincluding bananas\, bagels and more.\n\n7:00 am:  Same Day Registration\n\n8:30 am:  1 mile walk start time\n\n9:00 am:  5K start time\n\nNOTE: Due to the size of the 5K race and safety of all participants\,\n\nstrollers and dogs are NOT allowed on the course. You can participate\n\nin the 1 Mile Family Run/Walk with strollers and/or dogs who are\n\npeople-and dog-friendly. The course starts and finishes near the\n\nlarge pavilion near the softball fields. The course is flat and primarily\n\ncrushed limestone.\n\nRegistration\n\nOnline registration is open here.\n\nSpecial swag will be given out to the first 150 registrations\n\nfor the 5k race. Register by September 9 to guarantee a shirt.
X-ALT-DESC;FMTTYPE=text/html:<p style="box-sizing: border-box\; margin: 0px 0px 10px\; line-height: 1.7\; font-family: Raleway\, Arial\, Helvetica\, sans-serif\; font-size: 16px\; background-color: rgb(255\, 255\, 255)\;">Join us for the 13 th annual&nbsp\;<span style="box-sizing: border-box\; font-weight: 700\;">Panting for Paws 5K and 1 Mile Family<br />\nRun/Walk&nbsp\;</span>at&nbsp\;Lippold Park in Crystal Lake on&nbsp\;<span style="box-sizing: border-box\; font-weight: 700\;">Saturday\, October 5\,<br />\n2019</span>. This event is for runners&nbsp\;and walkers of all ages and fitness<br />\nlevels who want to support homeless animals!</p>\n\n<p style="box-sizing: border-box\; margin: 0px 0px 10px\; line-height: 1.7\; font-family: Raleway\, Arial\, Helvetica\, sans-serif\; font-size: 16px\; background-color: rgb(255\, 255\, 255)\;">Feeling competitive? The 5K is for runners and walkers. Your race will<br />\nbe chip timed&nbsp\;(CARA certified). For the 5K race\, medals and prizes will<br />\nbe awarded to top female and&nbsp\;top male runner. Medals will also be<br />\nawarded to the top three female and top three male finishers in the 5K<br />\nin the following age categories: 14 and under\, 15-19\, 20-24\, 25-29\,<br style="box-sizing: border-box\;" />\n30-39\, 40-49\, 50-54\, 55-59\, 60-64\, 65-69\, 70-79\, 80 &amp\; over.</p>\n\n<p style="box-sizing: border-box\; margin: 0px 0px 10px\; line-height: 1.7\; font-family: Raleway\, Arial\, Helvetica\, sans-serif\; font-size: 16px\; background-color: rgb(255\, 255\, 255)\;">Don&rsquo\;t feel like running a 5K? Sign up for the 1 Mile Family Run/Walk.<br />\nThis event is&nbsp\;untimed and you can participate with your dog(s) too!<br />\nGet all the awesome perks&nbsp\;including a long sleeve performance shirt<br />\nand hang out with your BFF (best furry&nbsp\;friend)! There is no additional<br />\ncost for dogs. NOTE: Well-behaved and socialized dogs&nbsp\;who are 6<br />\nmonths and older are welcome to participate. Only 1 dog per adult<br />\nhandler&nbsp\;and ALL dogs MUST always be on leash (no longer than 6&prime\;)<br />\nduring the event and while&nbsp\;at Lippold Park.</p>\n\n<p style="box-sizing: border-box\; margin: 0px 0px 10px\; line-height: 1.7\; font-family: Raleway\, Arial\, Helvetica\, sans-serif\; font-size: 16px\; background-color: rgb(255\, 255\, 255)\;">Participants can run individually or even form a team with family\, friends<br />\nor co-workers.&nbsp\;You can even set up your own fundraising page to<br />\ngather&nbsp\;donations and help raise even&nbsp\;more for the animals at Helping<br />\nPaws.&nbsp\;After the races and during the awards ceremony\, everyone is<br />\nwelcome&nbsp\;to join us for&nbsp\;refreshments. We will be also be serving beer<br />\n(for participants&nbsp\;who are 21+).&nbsp\;Of course\, there will be other snacks<br />\nincluding bananas\,&nbsp\;bagels and more.</p>\n\n<p style="box-sizing: border-box\; margin: 0px 0px 10px\; line-height: 1.7\; font-family: Raleway\, Arial\, Helvetica\, sans-serif\; font-size: 16px\; background-color: rgb(255\, 255\, 255)\;"><span style="box-sizing: border-box\; font-weight: 700\;">7:00 am:&nbsp\;&nbsp\;</span>Same Day Registration</p>\n\n<p style="box-sizing: border-box\; margin: 0px 0px 10px\; line-height: 1.7\; font-family: Raleway\, Arial\, Helvetica\, sans-serif\; font-size: 16px\; background-color: rgb(255\, 255\, 255)\;"><span style="box-sizing: border-box\; font-weight: 700\;">8:30 am:&nbsp\;&nbsp\;</span>1 mile walk start time</p>\n\n<p style="box-sizing: border-box\; margin: 0px 0px 10px\; line-height: 1.7\; font-family: Raleway\, Arial\, Helvetica\, sans-serif\; font-size: 16px\; background-color: rgb(255\, 255\, 255)\;"><span style="box-sizing: border-box\; font-weight: 700\;">9:00 am:&nbsp\;&nbsp\;</span>5K start time</p>\n\n<p style="box-sizing: border-box\; margin: 0px 0px 10px\; line-height: 1.7\; font-family: Raleway\, Arial\, Helvetica\, sans-serif\; font-size: 16px\; background-color: rgb(255\, 255\, 255)\;">NOTE: Due to the size of the 5K race and safety of all participants\,<br />\nstrollers&nbsp\;and dogs&nbsp\;are&nbsp\;<span style="box-sizing: border-box\; font-weight: 700\;">NOT</span>&nbsp\;allowed on the course. You can participate<br />\nin the 1 Mile&nbsp\;Family Run/Walk with&nbsp\;strollers and/or dogs who are<br />\npeople-and dog-friendly.&nbsp\;The course starts and finishes near the<br />\nlarge pavilion&nbsp\;near the softball fields.&nbsp\;The&nbsp\;course is flat and primarily<br />\ncrushed limestone.</p>\n\n<h2 data-fontsize="30" data-lineheight="39" style="box-sizing: border-box\; margin: 1.1em 0px\; font-family: Raleway\, Arial\, Helvetica\, sans-serif\; line-height: 1.33\; font-size: 30px\; background-color: rgb(255\, 255\, 255)\;">Registration</h2>\n\n<p style="box-sizing: border-box\; margin: 0px 0px 10px\; line-height: 1.7\; font-family: Raleway\, Arial\, Helvetica\, sans-serif\; font-size: 16px\; background-color: rgb(255\, 255\, 255)\;">Online registration is open&nbsp\;<a href="http://pantingforpaws5kand1mile.itsyourrace.com/" style="box-sizing: border-box\; text-decoration-line: none\; transition-property: color\, background-color\, border-color\; transition-duration: 0.2s\; transition-timing-function: linear\; color: rgb(0\, 153\, 204)\;">here</a>.</p>\n\n<p style="box-sizing: border-box\; margin: 0px 0px 10px\; line-height: 1.7\; font-family: Raleway\, Arial\, Helvetica\, sans-serif\; font-size: 16px\; background-color: rgb(255\, 255\, 255)\;"><em style="box-sizing: border-box\;"><span style="box-sizing: border-box\; font-weight: 700\;">Special swag will be given out to the first 150 registrations<br />\nfor the 5k race.&nbsp\;</span></em><em style="box-sizing: border-box\;"><span style="box-sizing: border-box\; font-weight: 700\;">Register by September 9 to guarantee a shirt.</span></em></p>\n
LOCATION:Lippold Park Route 176 Crystal Lake\, IL
UID:e.2851.10253
SEQUENCE:3
DTSTAMP:20260423T085752Z
URL:https://business.woodstockilchamber.com/events/details/panting-for-paws-5k-1-mile-family-walk-run-10253
END:VEVENT

END:VCALENDAR
