BEGIN:VCALENDAR
VERSION:2.0
PRODID:-//ChamberMaster//Event Calendar 2.0//EN
METHOD:PUBLISH
X-PUBLISHED-TTL:P3D
REFRESH-INTERVAL:P3D
CALSCALE:GREGORIAN
BEGIN:VEVENT
DTSTART:20200125T140000Z
DTEND:20200125T190000Z
X-MICROSOFT-CDO-ALLDAYEVENT:FALSE
SUMMARY:People in Need Forum
DESCRIPTION:People in Need Forum - Learn about the pressing needs people are facing in our county. Sessions and exhibits include: Immigration and resources for families\, Senior issues\, Caregiver issues\, Substance use and addictions\, Special needs financing and Human trafficking.
X-ALT-DESC;FMTTYPE=text/html:People in Need Forum - Learn about the pressing needs people are facing in our county. Sessions and exhibits include: Immigration and resources for families\, Senior issues\, Caregiver issues\, Substance use and addictions\, Special needs financing and Human trafficking.
LOCATION:McHenry County College - Luecht Auditorium
UID:e.2851.11135
SEQUENCE:3
DTSTAMP:20260423T052919Z
URL:https://business.woodstockilchamber.com/events/details/people-in-need-forum-11135
END:VEVENT

END:VCALENDAR
