BEGIN:VCALENDAR
VERSION:2.0
PRODID:-//ChamberMaster//Event Calendar 2.0//EN
METHOD:PUBLISH
X-PUBLISHED-TTL:P3D
REFRESH-INTERVAL:P3D
CALSCALE:GREGORIAN
BEGIN:VEVENT
DTSTART:20191110T020000Z
DTEND:20191110T040000Z
X-MICROSOFT-CDO-ALLDAYEVENT:FALSE
SUMMARY:Piano Man
DESCRIPTION:PIANO MAN brings the music of Elton John and Billy Joel to life in a show that pays them the ultimate tribute.  With some of the most versatile musicians and the uncanny ability to mimic the voices of these two mega-superstars\, PIANO MAN is one of the most authentic tribute bands in the country.\n\nPresented by Piano Man Productions
X-ALT-DESC;FMTTYPE=text/html:<p>PIANO MAN brings the music of Elton John and Billy Joel to life in a show that pays them the ultimate tribute.&nbsp\; With some of the most versatile musicians and the uncanny ability to mimic the voices of these two mega-superstars\, PIANO MAN is one of the most authentic tribute bands in the country.</p>\n\n<p>Presented by Piano Man Productions</p>\n
LOCATION:Woodstock Opera House 121 Van Buren Street Woodstock\, IL 60098
UID:e.2851.10308
SEQUENCE:3
DTSTAMP:20260423T071231Z
URL:https://business.woodstockilchamber.com/events/details/piano-man-10308
END:VEVENT

END:VCALENDAR
