BEGIN:VCALENDAR
VERSION:2.0
PRODID:-//ChamberMaster//Event Calendar 2.0//EN
METHOD:PUBLISH
X-PUBLISHED-TTL:P3D
REFRESH-INTERVAL:P3D
CALSCALE:GREGORIAN
BEGIN:VEVENT
DTSTART:20191120T220000Z
DTEND:20191121T010000Z
X-MICROSOFT-CDO-ALLDAYEVENT:FALSE
SUMMARY:Pioneer Center New Behavioral Health Ribbon Cutting/Open House
DESCRIPTION:Pioneer Center invites you to an Open House celebrating their new Child and Family Therapy Center in Woodstock\, IL. The open house and tours are from 4-7 pm and a ribbon cutting will be at 5 pm.
X-ALT-DESC;FMTTYPE=text/html:<br />\n<span style="color: rgb(51\, 51\, 51)\; font-family: sans-serif\, Arial\, Verdana\, &quot\;Trebuchet MS&quot\;\; font-size: 13px\; background-color: rgb(255\, 255\, 255)\;">Pioneer Center invites you to an Open House celebrating their new Child and Family Therapy Center in Woodstock\, IL. The open house and tours are from 4-7 pm and a ribbon cutting will be at 5 pm.</span>
LOCATION:13707 W. Jackson Street Woodstock\, IL
UID:e.2851.10389
SEQUENCE:3
DTSTAMP:20260423T071936Z
URL:https://business.woodstockilchamber.com/events/details/pioneer-center-new-behavioral-health-ribbon-cutting-open-house-10389
END:VEVENT

END:VCALENDAR
