BEGIN:VCALENDAR
VERSION:2.0
PRODID:-//ChamberMaster//Event Calendar 2.0//EN
METHOD:PUBLISH
X-PUBLISHED-TTL:P3D
REFRESH-INTERVAL:P3D
CALSCALE:GREGORIAN
BEGIN:VEVENT
DTSTART:20191205T010000Z
DTEND:20191205T030000Z
X-MICROSOFT-CDO-ALLDAYEVENT:FALSE
SUMMARY:Polar Express- The Movie
DESCRIPTION:Movies at the Opera House\n\nWednesday December 4\, 2019 at 7:00 PM\n\n \n\nTom Hanks and director Robert Zemeckis ("Forrest Gump"\; "Cast Away") reunite for "Polar Express\," an inspiring adventure based on the beloved children's book by Chris Van Allsburg. When a doubting young boy takes an extraordinary train ride to the North Pole\, he embarks on a journey of self-discovery that shows him that the wonder of life never fades for those who believe.\n\nJoin us for Polar Express trivia at 6:45 prior to the show!\n\nPresented by Woodstock Opera House\n\nTICKETS: $5.00 All Seats
X-ALT-DESC;FMTTYPE=text/html:<h2>Movies at the Opera House</h2>\n\n<h2>Wednesday December 4\, 2019 at 7:00 PM<br />\n&nbsp\;</h2>\n\n<p>Tom Hanks and director Robert Zemeckis (&quot\;Forrest Gump&quot\;\; &quot\;Cast Away&quot\;) reunite for &quot\;Polar Express\,&quot\; an inspiring adventure based on the beloved children&#39\;s book by Chris Van Allsburg. When a doubting young boy takes an extraordinary train ride to the North Pole\, he embarks on a journey of self-discovery that shows him that the wonder of life never fades for those who believe.</p>\n\n<p>Join us for Polar Express&nbsp\;trivia at 6:45 prior to the show!</p>\n\n<h6><span style="font-size:14px">Presented by Woodstock Opera House</span></h6>\n\n<h6><span style="font-size:14px">TICKETS:&nbsp\;$5.00 All Seats</span></h6>\n
LOCATION:Woodstock Opera House 121 W Van Buren Street Woodstock\, IL 60098
UID:e.2851.10407
SEQUENCE:3
DTSTAMP:20260423T053309Z
URL:https://business.woodstockilchamber.com/events/details/polar-express-the-movie-10407
END:VEVENT

END:VCALENDAR
