BEGIN:VCALENDAR
VERSION:2.0
PRODID:-//ChamberMaster//Event Calendar 2.0//EN
METHOD:PUBLISH
X-PUBLISHED-TTL:P3D
REFRESH-INTERVAL:P3D
CALSCALE:GREGORIAN
BEGIN:VEVENT
DTSTART:20200209T190000Z
DTEND:20200209T220000Z
X-MICROSOFT-CDO-ALLDAYEVENT:FALSE
SUMMARY:Pours for Pups!
DESCRIPTION:Pours for Pups!\n\nTrue Blue Dogs\, a nonprofit that develops and gifts service dogs for people in need\, benefits from event proceeds. Bring friends\, enjoy drinks and meet the pups in training ~ all for www.truebluedogs.org
X-ALT-DESC;FMTTYPE=text/html:<h1><span style="color:#0000CD"><strong>Pours for Pups!</strong></span></h1>\n\n<p><span style="color:#0000FF">True Blue Dogs\, a nonprofit that develops and gifts service dogs for people in need\, benefits from event proceeds. Bring friends\, enjoy drinks and meet the pups in training ~ all for www.truebluedogs.org&nbsp\;</span></p>\n
LOCATION:Sofie's Whiskey & Wine 150 S. Eastwood (Rt 47) Woodstock
UID:e.2851.11189
SEQUENCE:3
DTSTAMP:20260423T020305Z
URL:https://business.woodstockilchamber.com/events/details/pours-for-pups-11189
END:VEVENT

END:VCALENDAR
