BEGIN:VCALENDAR
VERSION:2.0
PRODID:-//ChamberMaster//Event Calendar 2.0//EN
METHOD:PUBLISH
X-PUBLISHED-TTL:P3D
REFRESH-INTERVAL:P3D
CALSCALE:GREGORIAN
BEGIN:VEVENT
DTSTART:20201017T180000Z
DTEND:20201017T200000Z
X-MICROSOFT-CDO-ALLDAYEVENT:FALSE
SUMMARY:Psycho - Alfred Hitchcock Movie
DESCRIPTION:Hitchcock Movie Marathon at the Woodstock Opera House\n\n\n\nPSYCHO\n\nPhoenix secretary Marion Crane (Janet Leigh)\, on the lam after stealing $40\,000 from her employer in order to run away with her boyfriend\, Sam Loomis (John Gavin)\, is overcome by exhaustion during a heavy rainstorm. Traveling on the back roads to avoid the police\, she stops for the night at the ramshackle Bates Motel and meets the polite but highly strung proprietor Norman Bates (Anthony Perkins)\, a young man with an interest in taxidermy and a difficult relationship with his mother. \nR | 1h 49min | Horror\, Mystery\, Thriller \n\nTICKETS: $7.00 Each\nOnly 50 seats per showing. \n\n\n\nALSO SHOWING:\n\nPsycho | October 17 at 1 PM\n\nPsycho | October 24 at 4 PM\n\nPsycho | October 31 at 7 PM\n\nThe Birds | October 17 at 4 PM\n\nThe Birds | October 24 at 7 PM\n\nThe Birds | October 31 at 1 PM\n\nRear Window | October 17 at 7 PM\n\nRear Window | October 24 at 1 PM\n\nRear Window | October 31 at 4 PM\n\n\n\nhttps://www.woodstockoperahouse.com/operahouse/page/hitchcock-movie-marathon
X-ALT-DESC;FMTTYPE=text/html:Hitchcock Movie Marathon at the Woodstock Opera House<br />\n<br />\n<strong>PSYCHO</strong><br />\nPhoenix secretary Marion Crane (Janet Leigh)\, on the lam after stealing $40\,000 from her employer in order to run away with her boyfriend\, Sam Loomis (John Gavin)\, is overcome by exhaustion during a heavy rainstorm. Traveling on the back roads to avoid the police\, she stops for the night at the ramshackle Bates Motel and meets the polite but highly strung proprietor Norman Bates (Anthony Perkins)\, a young man with an interest in taxidermy and a difficult relationship with his mother.&nbsp\;\n<p>R | 1h 49min | Horror\, Mystery\, Thriller&nbsp\;</p>\n\n<h4>TICKETS: $7.00 Each</h4>\nOnly 50 seats per showing.&nbsp\;<br />\n<br />\nALSO SHOWING:<br />\nPsycho | October 17 at 1 PM<br />\nPsycho | October 24 at 4 PM<br />\nPsycho | October 31 at 7 PM<br />\nThe Birds | October 17 at 4 PM<br />\nThe Birds | October 24 at 7 PM<br />\nThe Birds | October 31 at 1 PM<br />\nRear Window | October 17 at 7 PM<br />\nRear Window | October 24 at 1&nbsp\;PM<br />\nRear Window | October 31 at 4 PM<br />\n<br />\nhttps://www.woodstockoperahouse.com/operahouse/page/hitchcock-movie-marathon<br />\n&nbsp\;
LOCATION:Woodstock Opera House 121 Van Buren Street Woodstock\, IL 60098
UID:e.2851.12033
SEQUENCE:3
DTSTAMP:20260422T120654Z
URL:https://business.woodstockilchamber.com/events/details/psycho-alfred-hitchcock-movie-12033
END:VEVENT

END:VCALENDAR
