BEGIN:VCALENDAR
VERSION:2.0
PRODID:-//ChamberMaster//Event Calendar 2.0//EN
METHOD:PUBLISH
X-PUBLISHED-TTL:P3D
REFRESH-INTERVAL:P3D
CALSCALE:GREGORIAN
BEGIN:VEVENT
DTSTART:20200723T210000Z
DTEND:20200723T223000Z
X-MICROSOFT-CDO-ALLDAYEVENT:FALSE
SUMMARY:Racial & Diversity Forums
DESCRIPTION:Join Mayor Sager at Stage Left Cafe to share your thoughts and concerns.
X-ALT-DESC;FMTTYPE=text/html:Join Mayor Sager at Stage Left Cafe to share your thoughts and concerns.
LOCATION:Stage Left Cafe
UID:e.2851.11280
SEQUENCE:3
DTSTAMP:20260422T191037Z
URL:https://business.woodstockilchamber.com/events/details/racial-diversity-forums-11280
END:VEVENT

END:VCALENDAR
