BEGIN:VCALENDAR
VERSION:2.0
PRODID:-//ChamberMaster//Event Calendar 2.0//EN
METHOD:PUBLISH
X-PUBLISHED-TTL:P3D
REFRESH-INTERVAL:P3D
CALSCALE:GREGORIAN
BEGIN:VEVENT
DTSTART:20201118T200000Z
DTEND:20201118T210000Z
X-MICROSOFT-CDO-ALLDAYEVENT:FALSE
SUMMARY:Reaching out to Latinx & Hispanic owned Businesses - Webinar
DESCRIPTION:Join the Illinois Department of Commerce & Economic Opportunity (DCEO) to learn about the Business Interruption Grant Program (BIG). In this webinar\, Latinx\, Latino\, Latina\, and Hispanic owned businesses will learn about eligibility\, program details\, and the application process. Technical assistance support will also be provided for the last 30 minutes of the session to help answer your questions about the application process.\n\nApplications for a second round of funding are now being accepted and can be found here. A total of $220 million will be made available for small businesses of all types in Illinois. Grants will be awarded and funded on a rolling basis until funding is depleted. The grant size will be equivalent to two months of expenses.\n\nThe BIG program is open to all eligible businesses (for profit and nonprofit) with $20 million or less in annual revenue in 2019 and experienced losses due to COVID-19. Of the total funding\, $70 million will be invested in Disproportionately Impacted Areas (DIAs) and $60 million in heavily impacted industries. A map of the DIAs and the eligibility guidelines can be found on our website.\n\n \n\n"Highly Impacted Industries" have been identified as those businesses that have been closed or operating at significantly diminished capacity since March and are likely to continue doing so until we reach Phase 5 of the Restore Illinois plan and as having annual revenues of $10 million or less.\n\n \n\nThese Heavily Impacted industries include the following:\n\nEvent spaces\n\nMusic venues\n\nPerforming arts venues\n\nIndoor recreation\n\nAmusement parks\n\nMovie theaters\n\nMuseums\n\nCharter/shuttle buses\n\n \n\nOutside of the highly impacted industries listed above\, there are a set of "Priority Industries" that   although they have not experienced long-term shutdowns in the same way that highly impacted industries have   continue to experience significantly depressed demand as a result of the COVID 19 pandemic.\n\n\n\n \n\nPriority Industries include:\n\n	Independently owned retail\n	Restaurants and bars\n	Fitness Centers\n	Tourism and travel related activities\n\n \n\nAnd support services for arts and entertainment venues including design\, sound\, equipment rental or preparation\, casting\, hair and makeup\, talent management\, booking agents\, caterers\, photographers/videographers\, event planners\, florists\, and printers.\n\nYou can register for an informational webinar by using the link below:\n\n	Wednesday\, November 18\, 2020 2:00 pm   3:00 pm Registration link:\n\nhttps://illinois.webex.com/illinois/onstage/g.php?MTID=e608a5ada06c83648c70cd494505e9a73\n\n\n	For more information\, please contact Agnes Masnik at 312-882-6840 (Agnes.Masnik@illinois.gov) or Tracey Glenn at 217-622-3242 (Tracey.Glenn@illinois.gov)\n	Visit our website: www.illinois.gov/dceo\n\n \n\n \n\n \n\nAgnes Masnik\n\nNorthern Stateline Regional Manager & FDI\n\nOffice of Regional Economic Development\n\nIllinois Department of Commerce & Economic Opportunity\n\nC: 312-882-6840\n\nAgnes.Masnik@illinois.gov\n\nwww.illinois.gov/dceo
X-ALT-DESC;FMTTYPE=text/html:Join the Illinois Department of Commerce &amp\; Economic Opportunity (DCEO) to learn about the Business Interruption Grant Program (BIG). In this webinar\, Latinx\, Latino\, Latina\, and Hispanic owned businesses will learn about eligibility\, program details\, and the application process. Technical assistance support will also be provided for the last 30 minutes of the session to help answer your questions about the application process.<br />\nApplications for a second round of funding are now being accepted and can be found <a href="https://www2.illinois.gov/dceo/SmallBizAssistance/Pages/C19DisadvantagedBusGrants.aspx">here. </a>A total of $220 million will be made available for small businesses <strong>of all types </strong>in Illinois. Grants will be awarded and funded on a rolling basis until funding is depleted. The grant size will be equivalent to two months of expenses.<br />\n<u>The BIG program is open to <strong>all eligible </strong>businesses (for profit and nonprofit) with</u> $20 million or less in annual revenue in 2019 and experienced losses due to COVID-19. Of the total funding\, $70 million will be invested in Disproportionately Impacted Areas (DIAs) and $60 million in heavily impacted industries. A map of the DIAs and the eligibility guidelines can be found on our <a href="https://www2.illinois.gov/dceo/SmallBizAssistance/Pages/C19DisadvantagedBusGrants.aspx">website.</a><br />\n&nbsp\;<br />\n&ldquo\;Highly Impacted Industries&rdquo\; have been identified as those businesses that have been closed or operating at significantly diminished capacity since March and are likely to continue doing so until we reach Phase 5 of the Restore Illinois plan and as having annual revenues of $10 million or less.<br />\n&nbsp\;<br />\nThese Heavily Impacted industries include the following:<br />\nEvent spaces<br />\nMusic venues<br />\nPerforming arts venues<br />\nIndoor recreation<br />\nAmusement parks<br />\nMovie theaters<br />\nMuseums<br />\nCharter/shuttle buses<br />\n&nbsp\;<br />\nOutside of the highly impacted industries listed above\, there are a set of &ldquo\;Priority Industries&rdquo\; that &ndash\; although they have not experienced long-term shutdowns in the same way that highly impacted industries have &ndash\; continue to experience significantly depressed demand as a result of the COVID 19 pandemic.<br />\n<br clear="all" />\n&nbsp\;<br />\nPriority Industries include:\n<ul>\n	<li>Independently owned retail</li>\n	<li>Restaurants and bars</li>\n	<li>Fitness Centers</li>\n	<li>Tourism and travel related activities</li>\n</ul>\n&nbsp\;<br />\nAnd support services for arts and entertainment venues including design\, sound\, equipment rental or preparation\, casting\, hair and makeup\, talent management\, booking agents\, caterers\, photographers/videographers\, event planners\, florists\, and printers.<br />\nYou can register for an informational webinar by using the link below:\n<ul>\n	<li style="margin-left:-30.6pt\;"><strong>Wednesday\, November 18\, 2020 2:00 pm &ndash\; 3:00 pm </strong>Registration link:</li>\n</ul>\n<a href="https://illinois.webex.com/illinois/onstage/g.php?MTID=e608a5ada06c83648c70cd494505e9a73">https://illinois.webex.com/illinois/onstage/g.php?MTID=e608a5ada06c83648c70cd494505e9a73</a>\n\n<ul>\n	<li style="margin-left:-30.6pt\;">For more information\, please contact Agnes Masnik at 312-882-6840 (<a href="mailto:Agnes.Masnik@illinois.gov">Agnes.Masnik@illinois.gov</a>) or Tracey Glenn at 217-622-3242 (<a href="mailto:Tracey.Glenn@illinois.gov">Tracey.Glenn@illinois.gov</a>)</li>\n	<li style="margin-left:-30.6pt\;">Visit our website: <a href="http://www.illinois.gov/dceo">www.illinois.gov/dceo</a></li>\n</ul>\n&nbsp\;<br />\n&nbsp\;<br />\n&nbsp\;<br />\nAgnes Masnik<br />\nNorthern Stateline Regional Manager &amp\; FDI<br />\nOffice of Regional Economic Development<br />\nIllinois Department of Commerce &amp\; Economic Opportunity<br />\nC: 312-882-6840<br />\n<a href="mailto:Agnes.Masnik@illinois.gov">Agnes.Masnik@illinois.gov</a><br />\n<a href="http://www.illinois.gov/dceo">www.illinois.gov/dceo</a>
LOCATION:https://illinois.webex.com/illinois/onstage/g.php?MTID=e608a5ada06c83648c70cd494505e9a73
UID:e.2851.12121
SEQUENCE:3
DTSTAMP:20260422T104049Z
URL:https://business.woodstockilchamber.com/events/details/reaching-out-to-latinx-hispanic-owned-businesses-webinar-12121
END:VEVENT

END:VCALENDAR
