BEGIN:VCALENDAR
VERSION:2.0
PRODID:-//ChamberMaster//Event Calendar 2.0//EN
METHOD:PUBLISH
X-PUBLISHED-TTL:P3D
REFRESH-INTERVAL:P3D
CALSCALE:GREGORIAN
BEGIN:VEVENT
DTSTART:20210202T123000Z
DTEND:20210202T143000Z
X-MICROSOFT-CDO-ALLDAYEVENT:FALSE
SUMMARY:Real Woodstock/Star 105.5 Live Broadcast
DESCRIPTION:Live Broadcast of Groundhog Day Prognostication
X-ALT-DESC;FMTTYPE=text/html:Live Broadcast of Groundhog Day Prognostication
LOCATION:Woodstock Square
UID:e.2851.12134
SEQUENCE:3
DTSTAMP:20260420T060726Z
URL:https://business.woodstockilchamber.com/events/details/real-woodstock-star-105-5-live-broadcast-12134
END:VEVENT

END:VCALENDAR
