BEGIN:VCALENDAR
VERSION:2.0
PRODID:-//ChamberMaster//Event Calendar 2.0//EN
METHOD:PUBLISH
X-PUBLISHED-TTL:P3D
REFRESH-INTERVAL:P3D
CALSCALE:GREGORIAN
BEGIN:VEVENT
DTSTART:20201018T000000Z
DTEND:20201018T020000Z
X-MICROSOFT-CDO-ALLDAYEVENT:FALSE
SUMMARY:Rear Window - Alfred Hitchcock Movie
DESCRIPTION:Hitchcock Movie Marathon at the Woodstock Opera House\n\n\n\nREAR WINDOW: \n\nProfessional photographer L.B. "Jeff" Jefferies (James Stewart) breaks his leg while getting an action shot at an auto race. Confined to his New York apartment\, he spends his time looking out of the rear window observing the neighbors. He begins to suspect that a man across the courtyard may have murdered his wife. Jeff enlists the help of his high society fashion-consultant girlfriend Lisa Freemont (Grace Kelly) and his visiting nurse Stella (Thelma Ritter) to investigate. \n\nPG | 1h 52min | Mystery\, Thriller \n\n \n\nTICKETS: $7.00 Each\n\n \n\nOnly 50 seats per showing. \n\n\n\nALSO SHOWING:\n\nPsycho | October 17 at 1 PM\n\nPsycho | October 24 at 4 PM\n\nPsycho | October 31 at 7 PM\n\nThe Birds | October 17 at 4 PM\n\nThe Birds | October 24 at 7 PM\n\nThe Birds | October 31 at 1 PM\n\nRear Window | October 17 at 7 PM\n\nRear Window | October 24 at 1 PM\n\nRear Window | October 31 at 4 PM\n\n\n\nhttps://www.woodstockoperahouse.com/operahouse/page/hitchcock-movie-marathon
X-ALT-DESC;FMTTYPE=text/html:<span style="color:#333333"><span style="font-family:arial\,sans-serif"><span style="font-size:10.0pt">Hitchcock Movie Marathon at the Woodstock Opera House</span></span></span><br />\n<br />\n<strong><span style="color:black"><span style="font-family:arial\,sans-serif"><span style="font-size:10.0pt">REAR WINDOW</span></span></span></strong><span style="color:black"><span style="font-family:arial\,sans-serif"><span style="font-size:10.0pt">:&nbsp\;</span></span></span><br />\n<span style="color:black"><span style="font-family:arial\,sans-serif"><span style="font-size:10.0pt">Professional photographer L.B. &quot\;Jeff&quot\; Jefferies (James Stewart)&nbsp\;breaks his leg while getting an action shot at an auto race. Confined to his New York apartment\, he spends his time looking out of the rear window observing the neighbors. He begins to suspect that a man across the courtyard may have murdered his wife. Jeff enlists the help of his high society fashion-consultant girlfriend Lisa&nbsp\;Freemont&nbsp\;(Grace Kelly)&nbsp\;and his visiting nurse Stella (Thelma Ritter)&nbsp\;to investigate.&nbsp\;</span></span></span><br />\n<span style="color:black"><span style="font-family:arial\,sans-serif"><span style="font-size:10.0pt">PG&nbsp\;|&nbsp\;1h 52min&nbsp\;|&nbsp\;Mystery\,&nbsp\;Thriller&nbsp\;</span></span></span><br />\n&nbsp\;<br />\n<span style="color:#333333"><span style="font-family:arial\,sans-serif"><span style="font-size:10.0pt">TICKETS: $7.00 Each</span></span></span><br />\n&nbsp\;<br />\n<span style="color:#333333"><span style="font-family:arial\,sans-serif"><span style="font-size:10.0pt">Only 50 seats per showing.&nbsp\;</span></span></span><br />\n<br />\n<span style="color:#333333"><span style="font-family:arial\,sans-serif"><span style="font-size:10.0pt">ALSO SHOWING:<br />\nPsycho | October 17 at 1 PM<br />\nPsycho | October 24 at 4 PM<br />\nPsycho | October 31 at 7 PM<br />\nThe Birds | October 17 at 4 PM<br />\nThe Birds | October 24 at 7 PM<br />\nThe Birds | October 31 at 1 PM<br />\nRear Window | October 17 at 7 PM<br />\nRear Window | October 24 at 1&nbsp\;PM<br />\nRear Window | October 31 at 4 PM<br />\n<br />\nhttps://www.woodstockoperahouse.com/operahouse/page/hitchcock-movie-marathon</span></span></span><br />\n<br />\n&nbsp\;
LOCATION:Woodstock Opera House 121 Van Buren Street Woodstock\, IL 60098
UID:e.2851.12039
SEQUENCE:3
DTSTAMP:20260422T120805Z
URL:https://business.woodstockilchamber.com/events/details/rear-window-alfred-hitchcock-movie-12039
END:VEVENT

END:VCALENDAR
