BEGIN:VCALENDAR
VERSION:2.0
PRODID:-//ChamberMaster//Event Calendar 2.0//EN
METHOD:PUBLISH
X-PUBLISHED-TTL:P3D
REFRESH-INTERVAL:P3D
CALSCALE:GREGORIAN
BEGIN:VEVENT
DTSTART:20191229T010000Z
DTEND:20191229T030000Z
X-MICROSOFT-CDO-ALLDAYEVENT:FALSE
SUMMARY:Red\, White\, and Blues Wine Tasting Fundraiser
DESCRIPTION:Partnering with local business Winestock\, the Friends of the Opera House will host a fundraising event on December 28th. The evening will feature wine tastings and a live performance by blues artist Dave Weld and The Imperial Flames. \n\n \nBUY TICKETS | $20.00 EACH\n\n\n\n\n\nhttps://www.woodstockoperahouse.com/operahouse/page/slc-red-white-and-blues-wine-tasting-fundraiser-0
X-ALT-DESC;FMTTYPE=text/html:<span style="background-color:rgb(255\, 255\, 255)\; font-family:raleway\,sans-serif\; font-size:15px">Partnering with local business Winestock\, the Friends of the Opera House will host a fundraising event on December 28th. The evening will feature wine tastings and a live performance by blues artist Dave Weld and The Imperial Flames.&nbsp\;</span><br />\n&nbsp\;\n<h5><a href="https://www.ticketreturn.com/prod2/Buy.asp?EventID=304255#.XeagkOhKiUk" style="text-decoration-line: none\; color: rgb(129\, 24\, 27)\; background: transparent\;" target="_blank">BUY TICKETS</a><a href="http://BUY TICKETS | $20.00 EACH">&nbsp\;| $20.00 EACH</a><br />\n<br />\n<br />\n<a href="https://www.woodstockoperahouse.com/operahouse/page/slc-red-white-and-blues-wine-tasting-fundraiser-0">https://www.woodstockoperahouse.com/operahouse/page/slc-red-white-and-blues-wine-tasting-fundraiser-0</a></h5>\n<br />\n&nbsp\;
LOCATION:Stage Left Cafe 125 West Van Buren Street Woodstock IL 60098
UID:e.2851.10490
SEQUENCE:3
DTSTAMP:20260423T053257Z
URL:https://business.woodstockilchamber.com/events/details/red-white-and-blues-wine-tasting-fundraiser-10490
END:VEVENT

END:VCALENDAR
