BEGIN:VCALENDAR
VERSION:2.0
PRODID:-//ChamberMaster//Event Calendar 2.0//EN
METHOD:PUBLISH
X-PUBLISHED-TTL:P3D
REFRESH-INTERVAL:P3D
CALSCALE:GREGORIAN
BEGIN:VEVENT
DTSTART:20260617T220000Z
DTEND:20260618T000000Z
X-MICROSOFT-CDO-ALLDAYEVENT:FALSE
SUMMARY:Ribbon Cutting: Benton Street Tap
DESCRIPTION:Join the Woodstock Area Chamber of Commerce & Industry as we celebrate a milestone for Benton Street Tap!\n\nWe're excited to mark one year under new ownership for this longtime local hangout in Woodstock. Benton Street Tap has been a familiar gathering spot for the community\, and we look forward to celebrating its continued presence and next chapter.\n\nDate & Time:\n\nJune 17\, 2026 | 5:00   6:00 PM\n\nRibbon Cutting at 6:15 PM\n\nLocation:\n\nBenton Street Tap\n\n219 N Benton St\n\nWoodstock\, IL\n\nStop by to connect with fellow community members\, meet the team\, and show your support.\n\nWe hope you can join us in recognizing this local business and its place in the Woodstock community.
X-ALT-DESC;FMTTYPE=text/html:<p data-end="173" data-start="76">Join the <span class="hover:entity-accent entity-underline inline cursor-pointer align-baseline">Woodstock Area Chamber of Commerce &amp\; Industry</span> as we celebrate a milestone for Benton Street Tap!</p>\n\n<p data-end="432" data-start="175">We&rsquo\;re excited to mark <strong data-end="229" data-start="197">one year under new ownership</strong> for this longtime local hangout in&nbsp\;Woodstock. Benton Street Tap has been a familiar gathering spot for the community\, and we look forward to celebrating its continued presence and next chapter.</p>\n\n<p data-end="513" data-start="434"><strong data-end="450" data-start="434">Date &amp\; Time:</strong><br data-end="453" data-start="450" />\nJune 17\, 2026 | 5:00 &ndash\; 6:00 PM<br data-end="486" data-start="483" />\nRibbon Cutting at 6:15 PM</p>\n\n<p data-end="584" data-start="515"><strong data-end="528" data-start="515">Location:</strong><br data-end="531" data-start="528" />\nBenton Street Tap<br data-end="551" data-start="548" />\n219 N Benton St<br data-end="569" data-start="566" />\nWoodstock\, IL</p>\n\n<p data-end="673" data-start="586">Stop by to connect with fellow community members\, meet the team\, and show your support.</p>\n\n<p data-end="775" data-start="675">We hope you can join us in recognizing this local business and its place in the Woodstock community.</p>\n
LOCATION:Benton Street Tap 219 N Benton St Woodstock\, IL
UID:e.2851.19152
SEQUENCE:3
DTSTAMP:20260420T183301Z
URL:https://business.woodstockilchamber.com/events/details/ribbon-cutting-benton-street-tap-19152
END:VEVENT

END:VCALENDAR
