BEGIN:VCALENDAR
VERSION:2.0
PRODID:-//ChamberMaster//Event Calendar 2.0//EN
METHOD:PUBLISH
X-PUBLISHED-TTL:P3D
REFRESH-INTERVAL:P3D
CALSCALE:GREGORIAN
BEGIN:VEVENT
DTSTART:20260527T220000Z
DTEND:20260527T230000Z
X-MICROSOFT-CDO-ALLDAYEVENT:FALSE
SUMMARY:Ribbon Cutting for Wild Buffalo Trading Co
DESCRIPTION:Join the Woodstock Area Chamber of Commerce & Industry as we welcome a new addition to the Square\, Wild Buffalo Trading Co.!\n\nWild Buffalo Trading Co. is a brand new Western-style retail shop\, bringing a unique flair and fresh shopping experience to downtown Woodstock. With its rustic charm and distinctive style\, this new storefront adds to the character and vibrancy of the Square.\n\nCome out to celebrate their grand opening\, meet the owners\, and explore everything this new shop has to offer. It's a great opportunity to connect with the community and support a new local business!\n\nDate & Time:\n\nMay 27\, 2026 | 5:00   6:00 PM\n\nRibbon Cutting at 5:15 PM\n\nLocation:\n\nWild Buffalo Trading Co.\n\n106 N Benton Street\n\nWoodstock\, IL\n\nWe hope you'll join us in giving Wild Buffalo Trading Co. a warm welcome to the Woodstock Square!
X-ALT-DESC;FMTTYPE=text/html:<p data-end="217" data-start="93">Join the <span class="hover:entity-accent entity-underline inline cursor-pointer align-baseline">Woodstock Area Chamber of Commerce &amp\; Industry</span> as we welcome a new addition to the Square\, Wild Buffalo Trading Co.!</p>\n\n<p data-end="481" data-start="219">Wild Buffalo Trading Co. is a <strong data-end="288" data-start="249">brand new Western-style retail shop</strong>\, bringing a unique flair and fresh shopping experience to downtown Woodstock. With its rustic charm and distinctive style\, this new storefront adds to the character and vibrancy of the Square.</p>\n\n<p data-end="682" data-start="483">Come out to celebrate their grand opening\, meet the owners\, and explore everything this new shop has to offer. It&rsquo\;s a great opportunity to connect with the community and support a new local business!</p>\n\n<p data-end="762" data-start="684"><strong data-end="700" data-start="684">Date &amp\; Time:</strong><br data-end="703" data-start="700" />\nMay 27\, 2026 | 5:00 &ndash\; 6:00 PM<br data-end="735" data-start="732" />\nRibbon Cutting at 5:15 PM</p>\n\n<p data-end="844" data-start="764"><strong data-end="777" data-start="764">Location:</strong><br data-end="780" data-start="777" />\nWild Buffalo Trading Co.<br data-end="807" data-start="804" />\n106 N Benton Street<br data-end="829" data-start="826" />\nWoodstock\, IL</p>\n\n<p data-end="943" data-start="846">We hope you&rsquo\;ll join us in giving Wild Buffalo Trading Co. a warm welcome to the Woodstock Square!</p>\n
LOCATION:Wild Buffalo Trading Co. 106 N Benton Street Woodstock\, IL
UID:e.2851.19153
SEQUENCE:3
DTSTAMP:20260420T165643Z
URL:https://business.woodstockilchamber.com/events/details/ribbon-cutting-for-wild-buffalo-trading-co-19153
END:VEVENT

END:VCALENDAR
