BEGIN:VCALENDAR
VERSION:2.0
PRODID:-//ChamberMaster//Event Calendar 2.0//EN
METHOD:PUBLISH
X-PUBLISHED-TTL:P3D
REFRESH-INTERVAL:P3D
CALSCALE:GREGORIAN
BEGIN:VEVENT
DTSTART:20191121T160000Z
DTEND:20191121T180000Z
X-MICROSOFT-CDO-ALLDAYEVENT:FALSE
SUMMARY:Robert Rodriguez - Lennon and McCartney: Truth and Beauty
DESCRIPTION:Why is it that 50 years after The Beatles played their last collective note we are still analyzing them and obsessing over them? By common consensus\, almost all of what John Lennon and Paul McCartney are remembered for is the work that bore both of their names. Pop culture historian and Beatles authority Robert Rodriguez\, an award-winning author and podcaster\, examines what it was the two chief songwriters brought to each other that elevated their collective art to a standard that neither could ever match after they stopped working together: the singular power of collaboration.\n\nPresented by Woodstock Fine Arts Association's 56th Annual Creative Living Series
X-ALT-DESC;FMTTYPE=text/html:<p>Why is it that 50 years after The Beatles played their last collective note we are still analyzing them and obsessing over them? By common consensus\, almost all of what John Lennon and Paul McCartney are remembered for is the work that bore both of their names. Pop culture historian and Beatles authority Robert Rodriguez\, an award-winning author and podcaster\, examines what it was the two chief songwriters brought to each other that elevated their collective art to a standard that neither could ever match after they stopped working together: the singular power of collaboration.</p>\n\n<p>Presented by Woodstock Fine Arts Association&#39\;s&nbsp\;56th&nbsp\;Annual Creative Living Series</p>\n
LOCATION:Woodstock Opera House 121 Van Buren Street Woodstock\, IL 60098
UID:e.2851.10310
SEQUENCE:3
DTSTAMP:20260423T071731Z
URL:https://business.woodstockilchamber.com/events/details/robert-rodriguez-lennon-and-mccartney-truth-and-beauty-10310
END:VEVENT

END:VCALENDAR
