BEGIN:VCALENDAR
VERSION:2.0
PRODID:-//ChamberMaster//Event Calendar 2.0//EN
METHOD:PUBLISH
X-PUBLISHED-TTL:P3D
REFRESH-INTERVAL:P3D
CALSCALE:GREGORIAN
BEGIN:VEVENT
DTSTART:20191114T230000Z
DTEND:20191115T010000Z
X-MICROSOFT-CDO-ALLDAYEVENT:FALSE
SUMMARY:Rotary Club of Woodstock Grant Award Celebration & Chamber Mixer
DESCRIPTION:Join us to celebrate the 8 local not-for-profit organizations selected as the recipients of this years Rotary Club of Woodstock grant awards. Learn more about their organizations and about the Rotary Club of Woodstock.
X-ALT-DESC;FMTTYPE=text/html:Join us to celebrate the 8 local not-for-profit organizations selected as the recipients of this years Rotary Club of Woodstock grant awards. Learn more about their organizations and about the Rotary Club of Woodstock.&nbsp\;
LOCATION:Community Room Stage Left Cafe
UID:e.2851.10380
SEQUENCE:3
DTSTAMP:20260423T071953Z
URL:https://business.woodstockilchamber.com/events/details/rotary-club-of-woodstock-grant-award-celebration-chamber-mixer-10380
END:VEVENT

END:VCALENDAR
