BEGIN:VCALENDAR
VERSION:2.0
PRODID:-//ChamberMaster//Event Calendar 2.0//EN
METHOD:PUBLISH
X-PUBLISHED-TTL:P3D
REFRESH-INTERVAL:P3D
CALSCALE:GREGORIAN
BEGIN:VEVENT
DTSTART:20191214T180000Z
DTEND:20191214T210000Z
X-MICROSOFT-CDO-ALLDAYEVENT:FALSE
SUMMARY:Santa Claus Visits Northern Illinois Foot & Ankle Specialists
DESCRIPTION:Santa will be visiting Northern Illinois Foot & Ankle Specialists at their Crystal Lake location on Saturday December 14th from noon until 3pm. Come get your picture taken with Santa and enjoy some hot cocoa and cookies with the elves!
X-ALT-DESC;FMTTYPE=text/html:Santa will be visiting Northern Illinois Foot &amp\; Ankle Specialists at their Crystal Lake location on Saturday December 14th from noon until 3pm. Come get your picture taken with Santa and enjoy some hot cocoa and cookies with the elves!
LOCATION:750 E. Terra Cotta Ave Ste C Crystal Lake\, IL 60014
UID:e.2851.10483
SEQUENCE:3
DTSTAMP:20260423T053717Z
URL:https://business.woodstockilchamber.com/events/details/santa-claus-visits-northern-illinois-foot-ankle-specialists-10483
END:VEVENT

END:VCALENDAR
