BEGIN:VCALENDAR
VERSION:2.0
PRODID:-//ChamberMaster//Event Calendar 2.0//EN
METHOD:PUBLISH
X-PUBLISHED-TTL:P3D
REFRESH-INTERVAL:P3D
CALSCALE:GREGORIAN
BEGIN:VEVENT
DTSTART:20191213T110000Z
DTEND:20191213T160000Z
X-MICROSOFT-CDO-ALLDAYEVENT:FALSE
SUMMARY:Singleton Family McDonalds 6th Annual PJ's & Presents
DESCRIPTION:We hope that you can join us for our 6th Annual PJ's and\n\nPresents Party!\n\nOur annual Pajama and Toy Drive for two great organizaions\n\nin our area - Turning Point the only domestic violence shelter\n\nin McHnery County and Christmas Clearing House with the\n\nWoodstock Rotary.  Please help us make the holiday season a\n\nlittle bit brighter for children and families in our community by\n\nbringing brand new PJ's for children & adults\, and unwrapped new\n\ntoys to our Woodstock McDonald's on the morning of December 13th.\n\n\n\nJoe and Tina from STAR 105.5 will be broadcasting live - Holiday Fun\n\nand Prizes too as we all come together to do some good!\n\n\n\nWe hope to see you there and that you will help us get the word out to\n\nhelp make this our most successful PJ and Presents Party yet!
X-ALT-DESC;FMTTYPE=text/html:We hope that you can join us for our 6th Annual PJ&#39\;s and<br />\nPresents Party!<br />\nOur annual Pajama and Toy Drive for two great organizaions<br />\nin our area - Turning Point the only domestic violence shelter<br />\nin McHnery County and Christmas Clearing House with the<br />\nWoodstock Rotary.&nbsp\; Please help us make the holiday season a<br />\nlittle bit brighter for children and families in our community by<br />\nbringing brand new PJ&#39\;s for children &amp\; adults\, and unwrapped new<br />\ntoys to our Woodstock McDonald&#39\;s on the morning of December 13th.<br />\n<br />\nJoe and Tina from STAR 105.5 will be broadcasting live - Holiday Fun<br />\nand Prizes too as we all come together to do some good!<br />\n<br />\nWe hope to see you there and that you will help us get the word out to<br />\nhelp make this our most successful PJ and Presents Party yet!
LOCATION:Woodstock McDonalds 250 S. Eastwood Dr. Woodstock\, IL
UID:e.2851.10489
SEQUENCE:3
DTSTAMP:20260423T053410Z
URL:https://business.woodstockilchamber.com/events/details/singleton-family-mcdonalds-6th-annual-pj-s-presents-10489
END:VEVENT

END:VCALENDAR
