BEGIN:VCALENDAR
VERSION:2.0
PRODID:-//ChamberMaster//Event Calendar 2.0//EN
METHOD:PUBLISH
X-PUBLISHED-TTL:P3D
REFRESH-INTERVAL:P3D
CALSCALE:GREGORIAN
BEGIN:VEVENT
DTSTART:20191107T150000Z
DTEND:20191107T180000Z
X-MICROSOFT-CDO-ALLDAYEVENT:FALSE
SUMMARY:Small Business Opportunity & Resource Fair
DESCRIPTION:Looking for Great Candidates to Join Your Sales Force?\n\nLooking to network with business owners that coul use your\n\nproduct/service?  Don't miss the Small-Business Fair\n\nThursday\, November 7\, 2019\, 9am-12pm in the MCC Gym.\n\n\n\nRecruit sales associates\, team leaders\, and new members\n\nfor your organization and network with potential new customers.\n\n\n\nBenefits:\n\nExcellent networking at a face-to-face marketing event\n\nSales opportuities to sell your products Lead generation potential\n\nCost-effective public relations and advertising\n\n\n\nDetails:\n\nDeadline to register is 10/24/19\n\nSpace is limited to 50 booths (each booth will have one table\, two chairs\, and pipe and draping)\n\nFee includes continental breakfast\n\n\n\nFine Print:\n\nVendors may be asked to provide proof of insurance. Only one representative\n\nfrom each company will be accepeted.  Duplicate registrations wil be contacted\n\nand refunded.\n\n\n\nThe following companies are represented:\n\n-Juice Plus+/TowerGarden\n\n-The Functional Medicine MD\n\n-Mary Kay Cosmetics\n\n-Advanced Pain Rehab Inc.\n\n-VASAYO\n\n-Melaleuca\n\n\n\nHosted by the Business Club of MCC\, MCC's Business Department\, Career Services\, Illinois Small\n\nBusiness Development Center\, McHenry Area Chamber of Commerce\, and the Woodstock Chamber\n\nof Commerce.  For more information\, call (815) 479-7682
X-ALT-DESC;FMTTYPE=text/html:<p 1.3rem="" background-color:="" color:="" font-size:="" line-height:="" margin:="" padding:="" sans="" source="" style="box-sizing: border-box\; font-family: " text-rendering:="">Looking for Great Candidates to Join Your Sales Force?<br />\nLooking to network with business owners that coul use your<br />\nproduct/service?&nbsp\; Don&#39\;t miss the Small-Business Fair<br />\nThursday\, November 7\, 2019\, 9am-12pm in the MCC Gym.<br />\n<br />\nRecruit sales associates\, team leaders\, and new members<br />\nfor your organization&nbsp\;and network with potential new customers.<br />\n<br />\nBenefits:<br style="color: rgb(119\, 119\, 119)\; font-family: Helvetica\, Arial\, sans-serif\; font-size: 12px\; background-color: rgb(255\, 255\, 255)\;" />\nExcellent networking at a face-to-face marketing event<br />\nSales opportuities to sell your products&nbsp\;Lead generation potential<br />\nCost-effective public relations and advertising<br style="color: rgb(119\, 119\, 119)\; font-family: Helvetica\, Arial\, sans-serif\; font-size: 12px\; background-color: rgb(255\, 255\, 255)\;" />\n<br style="color: rgb(119\, 119\, 119)\; font-family: Helvetica\, Arial\, sans-serif\; font-size: 12px\; background-color: rgb(255\, 255\, 255)\;" />\nDetails:<br style="color: rgb(119\, 119\, 119)\; font-family: Helvetica\, Arial\, sans-serif\; font-size: 12px\; background-color: rgb(255\, 255\, 255)\;" />\nDeadline to register is 10/24/19<br style="color: rgb(119\, 119\, 119)\; font-family: Helvetica\, Arial\, sans-serif\; font-size: 12px\; background-color: rgb(255\, 255\, 255)\;" />\nSpace is limited to 50 booths (each booth will have one table\, two chairs\, and pipe and draping)<br style="color: rgb(119\, 119\, 119)\; font-family: Helvetica\, Arial\, sans-serif\; font-size: 12px\; background-color: rgb(255\, 255\, 255)\;" />\nFee includes continental breakfast<br style="color: rgb(119\, 119\, 119)\; font-family: Helvetica\, Arial\, sans-serif\; font-size: 12px\; background-color: rgb(255\, 255\, 255)\;" />\n<br style="color: rgb(119\, 119\, 119)\; font-family: Helvetica\, Arial\, sans-serif\; font-size: 12px\; background-color: rgb(255\, 255\, 255)\;" />\nFine Print:<br style="color: rgb(119\, 119\, 119)\; font-family: Helvetica\, Arial\, sans-serif\; font-size: 12px\; background-color: rgb(255\, 255\, 255)\;" />\nVendors may be asked to provide proof of insurance. Only one representative<br />\nfrom each company will be accepeted.&nbsp\; Duplicate registrations wil be contacted<br />\nand refunded.<br />\n<br />\nThe following companies are represented:<br style="color: rgb(119\, 119\, 119)\; font-family: Helvetica\, Arial\, sans-serif\; font-size: 12px\; background-color: rgb(255\, 255\, 255)\;" />\n-Juice Plus+/TowerGarden<br style="color: rgb(119\, 119\, 119)\; font-family: Helvetica\, Arial\, sans-serif\; font-size: 12px\; background-color: rgb(255\, 255\, 255)\;" />\n<font color="#777777" face="Helvetica\, Arial\, sans-serif">-The Functional Medicine MD</font><br style="color: rgb(119\, 119\, 119)\; font-family: Helvetica\, Arial\, sans-serif\; font-size: 12px\; background-color: rgb(255\, 255\, 255)\;" />\n<font color="#777777" face="Helvetica\, Arial\, sans-serif">-Mary Kay Cosmetics</font><br style="color: rgb(119\, 119\, 119)\; font-family: Helvetica\, Arial\, sans-serif\; font-size: 12px\; background-color: rgb(255\, 255\, 255)\;" />\n<font color="#777777" face="Helvetica\, Arial\, sans-serif">-Advanced Pain Rehab Inc.</font><br style="color: rgb(119\, 119\, 119)\; font-family: Helvetica\, Arial\, sans-serif\; font-size: 12px\; background-color: rgb(255\, 255\, 255)\;" />\n-VASAYO<br style="color: rgb(119\, 119\, 119)\; font-family: Helvetica\, Arial\, sans-serif\; font-size: 12px\; background-color: rgb(255\, 255\, 255)\;" />\n-Melaleuca<br style="color: rgb(119\, 119\, 119)\; font-family: Helvetica\, Arial\, sans-serif\; font-size: 12px\; background-color: rgb(255\, 255\, 255)\;" />\n<br style="color: rgb(119\, 119\, 119)\; font-family: Helvetica\, Arial\, sans-serif\; font-size: 12px\; background-color: rgb(255\, 255\, 255)\;" />\nHosted by the Business Club of MCC\, MCC&#39\;s Business Department\, Career Services\, Illinois Small<br />\nBusiness Development Center\, McHenry Area Chamber of Commerce\, and the Woodstock Chamber<br />\nof Commerce.&nbsp\; For more information\, call (815) 479-7682<br />\n<br />\n<br />\n<br />\n&nbsp\;</p>\n
LOCATION:McHenry County College 8900 US Hwy 14 Crystal Lake\, IL
UID:e.2851.9835
SEQUENCE:3
DTSTAMP:20260423T071445Z
URL:https://business.woodstockilchamber.com/events/details/small-business-opportunity-resource-fair-9835
END:VEVENT

END:VCALENDAR
