BEGIN:VCALENDAR
VERSION:2.0
PRODID:-//ChamberMaster//Event Calendar 2.0//EN
METHOD:PUBLISH
X-PUBLISHED-TTL:P3D
REFRESH-INTERVAL:P3D
CALSCALE:GREGORIAN
BEGIN:VEVENT
DTSTART:20191130T160000Z
DTEND:20191130T200000Z
X-MICROSOFT-CDO-ALLDAYEVENT:FALSE
SUMMARY:Small Business Saturday Market
DESCRIPTION:Join us and celebrate the best in small businesses.  Whether it be handmade or direct sales\, each of our vendor is a small business.  Shop a fun mix of handmade items\, artist's works\, and specialty gifts from a variety of sellers (to be announced).
X-ALT-DESC;FMTTYPE=text/html:<p><span style="color:rgb(54\, 54\, 54)\; font-family:proxima-nova\; font-size:18px">Join us and celebrate the best in small businesses.&nbsp\; Whether it be handmade or direct sales\, each of our vendor is a small business.&nbsp\; Shop a fun mix of handmade items\, artist&#39\;s works\, and specialty gifts from a variety of sellers (to be announced).</span></p>\n\n<p>&nbsp\;</p>\n
LOCATION:Mixin Mingle 124 Cass St. Woodstock\, IL
UID:e.2851.10235
SEQUENCE:3
DTSTAMP:20260423T071732Z
URL:https://business.woodstockilchamber.com/events/details/small-business-saturday-market-10235
END:VEVENT

END:VCALENDAR
