BEGIN:VCALENDAR
VERSION:2.0
PRODID:-//ChamberMaster//Event Calendar 2.0//EN
METHOD:PUBLISH
X-PUBLISHED-TTL:P3D
REFRESH-INTERVAL:P3D
CALSCALE:GREGORIAN
BEGIN:VEVENT
DTSTART:20200126T150000Z
DTEND:20200126T200000Z
X-MICROSOFT-CDO-ALLDAYEVENT:FALSE
SUMMARY:St. Mary Catholic School Open House
DESCRIPTION:Experience all St. Mary Offers at Open House:\n\n\n	9:00 a.m.\, Join us at the St. Mary School Family Mass\, St. Mary Church\n	10:00 a.m.\, Pancake Breakfast\, St. Mary Cafeteria\n	10:45 a.m.\, Emmy Award-Winning storyteller\, Jim May\, will present stories from his collection\, St. Mary Gym\n	11:00 a.m.\, Take a tour of St. Mary School\n\n\nTours will be available from 10am - Noon and 1pm - 2pm (in Spanish)\n\n\n	Tours will be available starting in the auditorium. Enter the auditorium at the school's main entrance on Lincoln Avenue. Enter the School on Lincoln Avenue to get your tours.
X-ALT-DESC;FMTTYPE=text/html:<div><strong>Experience all St. Mary Offers at Open House:</strong></div>\n\n<ul>\n	<li>9:00 a.m.\, Join us at the St. Mary School Family Mass\, St. Mary Church</li>\n	<li>10:00 a.m.\, Pancake Breakfast\, St. Mary Cafeteria</li>\n	<li>10:45 a.m.\, Emmy Award-Winning storyteller\, Jim May\, will present&nbsp\;stories from his collection\, St. Mary Gym</li>\n	<li>11:00 a.m.\, Take a tour of St. Mary School</li>\n</ul>\n\n<div><strong>Tours will be available from 10am - Noon and 1pm - 2pm (in Spanish)</strong></div>\n\n<ul>\n	<li>Tours will be available starting in the auditorium. Enter the auditorium at the school&rsquo\;s main entrance on Lincoln Avenue. Enter the School on Lincoln Avenue to get your tours.</li>\n</ul>\n
LOCATION:St. Mary Catholic School 320 Lincoln Avenue Woodstock\, IL 60098
UID:e.2851.10641
SEQUENCE:3
DTSTAMP:20260423T041656Z
URL:https://business.woodstockilchamber.com/events/details/st-mary-catholic-school-open-house-01-26-2020-10641
END:VEVENT

END:VCALENDAR
