BEGIN:VCALENDAR
VERSION:2.0
PRODID:-//ChamberMaster//Event Calendar 2.0//EN
METHOD:PUBLISH
X-PUBLISHED-TTL:P3D
REFRESH-INTERVAL:P3D
CALSCALE:GREGORIAN
BEGIN:VEVENT
DTSTART:20191117T160000Z
DTEND:20191117T200000Z
X-MICROSOFT-CDO-ALLDAYEVENT:FALSE
SUMMARY:St. Mary Catholic School Open House
DESCRIPTION:Interested in providing your children with private\, fa\n\nth-based education? Stop by St. Mary Catholic School\, Woodstock during our Open House to receive a tour of our school and meet our faculty and staff.\n\n\n\nSt. Mary Catholic School Open House\n\nNovember 17\, 2019\n\n10:00 a.m. - Noon\, 1:00 p.m. - 2:00 pm.\n\nTours will be available in Spanish from 1-2pm.\n\n\n\nRegister online! https://forms.gle/xd5F7WvxwUjSboYB8\n\n\n\nQuestions? Contact Ms. Liz Brennna\, Director of Enrollment Marketing at lbrennan@stmary-woodstock.org or 815.338.3377.
X-ALT-DESC;FMTTYPE=text/html:<div style="text-align: center\;"><br />\n<br />\n<span style="font-size:14px"><span style="font-family:tahoma">Interested in providing your chi</span></span><span style="font-size: 14px\;"><span style="font-family:tahoma">ldren with p</span></span><span style="font-family: tahoma\; font-size: 14px\;">rivate\, fa</span></div>\n\n<div style="text-align: center\;"><span style="font-family: tahoma\; font-size: 14px\;">th-based education? Stop by St. Mary Catholic School\, Woodstock during our Open House to receive a tour of our school and meet our faculty and staff.</span></div>\n\n<div style="text-align: center\;"><br />\n<span style="font-size:14px"><span style="font-family:tahoma">St. Mary Catholic School Open House<br />\nNovember 17\, 2019</span></span></div>\n\n<div style="text-align: center\;"><span style="font-size:14px"><span style="font-family:tahoma">10:00 a.m. - Noon\, 1:00 p.m. - 2:00 pm.<br />\nTours will be available in Spanish from 1-2pm.<br />\n<br />\nRegister online!&nbsp\;</span></span>https://forms.gle/xd5F7WvxwUjSboYB8<br />\n<br />\nQuestions? Contact Ms. Liz Brennna\, Director of Enrollment Marketing at lbrennan@stmary-woodstock.org or 815.338.3377.<br />\n&nbsp\;</div>\n\n<div style="text-align: center\;">&nbsp\;</div>\n
LOCATION:St. Mary Catholic School 320 Lincoln Avenue Woodstock\, IL 60098 Enter the school through the main entrance on Lincoln.
UID:e.2851.10430
SEQUENCE:3
DTSTAMP:20260423T071446Z
URL:https://business.woodstockilchamber.com/events/details/st-mary-catholic-school-open-house-10430
END:VEVENT

END:VCALENDAR
