BEGIN:VCALENDAR
VERSION:2.0
PRODID:-//ChamberMaster//Event Calendar 2.0//EN
METHOD:PUBLISH
X-PUBLISHED-TTL:P3D
REFRESH-INTERVAL:P3D
CALSCALE:GREGORIAN
BEGIN:VEVENT
DTSTART:20191004T050000Z
DTEND:20191004T050000Z
X-MICROSOFT-CDO-ALLDAYEVENT:FALSE
SUMMARY:St. Mary School Alumni Mass and Social
DESCRIPTION:Join St. Mary Catholic School for the Inaugural St. Mary Alumni Mass and Social\n\nFriday\, October 4\, 2019\n\n\n\n3:30 p.m.- Mass in the St. Mary Church\n\n\n\n4:15 p.m. - Social in the St. Mary School Auditorium \n\nFood and beverages will be served.\n\n\n\nRSVP Today: stmary-woodstock.org/alumni
X-ALT-DESC;FMTTYPE=text/html:<div style="text-align:center"><span style="font-size:14px"><span style="font-family:tahoma"><strong>Join St. Mary Catholic School for the&nbsp\;Inaugural St. Mary Alumni Mass and Social</strong></span></span></div>\n\n<div style="text-align:center"><span style="font-size:14px">Friday\, October 4\, 2019<br />\n<br />\n3:30 p.m.- Mass in the St. Mary Church<br />\n<br />\n4:15 p.m. - Social in the St. Mary School Auditorium&nbsp\;<br />\n<em>Food and beverages will be served.</em><br />\n<br />\nRSVP Today:&nbsp\;</span>stmary-woodstock.org/alumni</div>\n
LOCATION:St. Mary Catholic School | 320 Lincoln Avenue | Woodstock\, IL 60098
UID:e.2851.10270
SEQUENCE:3
DTSTAMP:20260423T085640Z
URL:https://business.woodstockilchamber.com/events/details/st-mary-school-alumni-mass-and-social-10270
END:VEVENT

END:VCALENDAR
