BEGIN:VCALENDAR
VERSION:2.0
PRODID:-//ChamberMaster//Event Calendar 2.0//EN
METHOD:PUBLISH
X-PUBLISHED-TTL:P3D
REFRESH-INTERVAL:P3D
CALSCALE:GREGORIAN
BEGIN:VEVENT
DTSTART:20210513T160000Z
DTEND:20210507T180000Z
X-MICROSOFT-CDO-ALLDAYEVENT:FALSE
SUMMARY:State of the City Luncheon 2021 - Change In Venue
DESCRIPTION:The Annual City of Woodstock State of the City Luncheon on Thursday May 13\, 2021 from 11AM to 1 PM at Ethereal Confections is at full capacity.  Please contact the Chamber office to be added to the wait list if you have not registered and would like to attend.\n\n\n\nMayor Mike Turner will present the State of the City address followed by a Q&A from attendees.   \n\n\n\nLunch includes a Caesar salad starter followed by a lemon butter chicken served over pasta with seasonal vegetables.  Dessert Table.  \n\n\n\nA vegetarian option is available if requested by close of business Monday May 10\, 2021.\n\n\n\nCash bar will be available for beverages other than water.\n\n\n\nFor our members who are willing and able to provide vaccine information\, in order for us to allow maximum member attendance at the event and keep in compliance with state guidelines\, we ask that those of you who have been vaccinated already\, if you are willing to do so\, email your vaccination card to brenda@woodstockilchamber.com so that we may remove you from the event headcount to allow more members to attend the event.  If you do not wish to provide this information that is not a problem\, as we understand this is unchartered territory and everyone may not wish to provide these details.
X-ALT-DESC;FMTTYPE=text/html:<span background-color:="" font-size:="" style="color: rgb(51\, 51\, 51)\; font-family: sans-serif\, Arial\, Verdana\, " trebuchet="">The Annual City of Woodstock State of the City Luncheon on Thursday May 13\, 2021 from 11AM to 1 PM at Ethereal Confections is at full capacity.&nbsp\; Please contact the Chamber office to be added to the wait list if you have not registered and would like to attend.</span><br font-size:="" style="color: rgb(51\, 51\, 51)\; font-family: sans-serif\, Arial\, Verdana\, " trebuchet="" />\n<br font-size:="" style="color: rgb(51\, 51\, 51)\; font-family: sans-serif\, Arial\, Verdana\, " trebuchet="" />\n<span background-color:="" font-size:="" style="color: rgb(51\, 51\, 51)\; font-family: sans-serif\, Arial\, Verdana\, " trebuchet="">Mayor Mike Turner will present the State of the City address followed by a Q&amp\;A from attendees.&nbsp\; &nbsp\;</span><br font-size:="" style="color: rgb(51\, 51\, 51)\; font-family: sans-serif\, Arial\, Verdana\, " trebuchet="" />\n<br font-size:="" style="color: rgb(51\, 51\, 51)\; font-family: sans-serif\, Arial\, Verdana\, " trebuchet="" />\n<span background-color:="" font-size:="" style="color: rgb(51\, 51\, 51)\; font-family: sans-serif\, Arial\, Verdana\, " trebuchet="">Lunch includes a</span><span background-color:="" font-size:="" style="color: rgb(51\, 51\, 51)\; font-family: sans-serif\, Arial\, Verdana\, " trebuchet="">&nbsp\;Caesar salad starter followed by a lemon butter chicken served over pasta with seasonal vegetables</span><span background-color:="" font-size:="" style="color: rgb(51\, 51\, 51)\; font-family: sans-serif\, Arial\, Verdana\, " trebuchet="">.&nbsp\;&nbsp\;Dessert Table.&nbsp\;&nbsp\;</span><br font-size:="" style="color: rgb(51\, 51\, 51)\; font-family: sans-serif\, Arial\, Verdana\, " trebuchet="" />\n<br font-size:="" style="color: rgb(51\, 51\, 51)\; font-family: sans-serif\, Arial\, Verdana\, " trebuchet="" />\n<span background-color:="" font-size:="" style="color: rgb(51\, 51\, 51)\; font-family: sans-serif\, Arial\, Verdana\, " trebuchet="">A vegetarian option is available if requested by close of business Monday May 10\, 2021.</span><br font-size:="" style="color: rgb(51\, 51\, 51)\; font-family: sans-serif\, Arial\, Verdana\, " trebuchet="" />\n<br font-size:="" style="color: rgb(51\, 51\, 51)\; font-family: sans-serif\, Arial\, Verdana\, " trebuchet="" />\n<span background-color:="" font-size:="" style="color: rgb(51\, 51\, 51)\; font-family: sans-serif\, Arial\, Verdana\, " trebuchet="">Cash bar will be available for beverages other than water.<br />\n<br />\nFor our members who are willing and able to provide vaccine information\, in order for us to allow maximum member attendance at the event and keep in compliance with state guidelines\, we ask that those of you who have been vaccinated already\, if you are willing to do so\, email your vaccination card to brenda@woodstockilchamber.com so that we may remove you from the event headcount to allow more members to attend the event.&nbsp\; If you do not wish to provide this information that is not a problem\, as we understand this is unchartered territory and everyone may not wish to provide these details.&nbsp\;</span><br />\n&nbsp\;
LOCATION:Ethereal Confections 140 Cass St. Woodstock
UID:e.2851.12428
SEQUENCE:3
DTSTAMP:20260420T033040Z
URL:https://business.woodstockilchamber.com/events/details/state-of-the-city-luncheon-2021-change-in-venue-12428
END:VEVENT

END:VCALENDAR
