BEGIN:VCALENDAR
VERSION:2.0
PRODID:-//ChamberMaster//Event Calendar 2.0//EN
METHOD:PUBLISH
X-PUBLISHED-TTL:P3D
REFRESH-INTERVAL:P3D
CALSCALE:GREGORIAN
BEGIN:VEVENT
DTSTART:20191005T153000Z
DTEND:20191005T160000Z
X-MICROSOFT-CDO-ALLDAYEVENT:FALSE
SUMMARY:Story Time with Zoe Mulford
DESCRIPTION:We are pleased to host singer/songwriter Zoe Mulford as our special guest for story time! Zoe will perform her song/book The President Sang Amazing Grace on October 5th at 10:30am.
X-ALT-DESC;FMTTYPE=text/html:We are pleased to host singer/songwriter Zoe Mulford as our special guest for story time! Zoe will perform her song/book The President Sang Amazing Grace on October 5th at 10:30am.
LOCATION:Read Between the Lynes 111 E Van Buren St Woodstock\, IL 60098
UID:e.2851.10297
SEQUENCE:3
DTSTAMP:20260423T092334Z
URL:https://business.woodstockilchamber.com/events/details/story-time-with-zoe-mulford-10297
END:VEVENT

END:VCALENDAR
