BEGIN:VCALENDAR
VERSION:2.0
PRODID:-//ChamberMaster//Event Calendar 2.0//EN
METHOD:PUBLISH
X-PUBLISHED-TTL:P3D
REFRESH-INTERVAL:P3D
CALSCALE:GREGORIAN
BEGIN:VEVENT
DTSTART:20191023T230000Z
DTEND:20191024T020000Z
X-MICROSOFT-CDO-ALLDAYEVENT:FALSE
SUMMARY:Stronger Together: Women Supporting Women
DESCRIPTION:In this powerful presentation\, Jodi Bondi Norgaard speaks on the value and benefit of women supporting women in business and in life. She shares her entrepreneurial journey of challenging the status quo\, achieving goals and the mentors who helped her succeed. She discusses what she never anticipated while launching a socially responsible product\; the long road ahead of her\, the hard battle she would fight and learning that her persistence\, determination\, and passion would serve her well. Jodi offers strategies for women to get behind each other and provides examples of what the power of being a woman really looks like.\n\n\n\nJodi Bondi Norgaard is the founder of Dream Big Toy Company and the creator of the award-winning Go! Go! Sports Girls dolls\, books\, and apps for girls encouraging healthy and active play over fashion and body image. \n\n\n\nThe event is open to the public. Cost is $25 per person. To purchase event tickets\, visit www.mchenry.edu/rsvp. For more information\, call the Friends of MCC Foundation at (815) 479-7529.\n\n\n\nThe Education to Empowerment scholarship provides financial support and ongoing mentorship for female students in their final year at MCC and continues to assist them as they continue their education at a four-year college or university.
X-ALT-DESC;FMTTYPE=text/html:<span style="color: rgb(29\, 33\, 41)\; font-family: Helvetica\, Arial\, sans-serif\; font-size: 14px\; white-space: pre-wrap\; background-color: rgb(255\, 255\, 255)\;">In this powerful presentation\, </span><a href="https://www.facebook.com/jodibondinorgaard/" style="color: rgb(56\, 88\, 152)\; cursor: pointer\; text-decoration-line: none\; font-family: Helvetica\, Arial\, sans-serif\; font-size: 14px\; white-space: pre-wrap\; background-color: rgb(255\, 255\, 255)\;" target="_blank">Jodi Bondi Norgaard</a><span style="color: rgb(29\, 33\, 41)\; font-family: Helvetica\, Arial\, sans-serif\; font-size: 14px\; white-space: pre-wrap\; background-color: rgb(255\, 255\, 255)\;"> speaks on the value and benefit of women supporting women in business and in life. She shares her entrepreneurial journey of challenging the status quo\, achieving goals and the mentors who helped her succeed. She discusses what she never anticipated while launching a socially responsible product\; the long road ahead of her\, the hard battle she would fight and learning that her persistence\, determination\, and passion would serve her well. Jodi offers strategies for women to get behind each other and provides examples of what the power of being a woman really looks like.</span><br style="color: rgb(29\, 33\, 41)\; font-family: Helvetica\, Arial\, sans-serif\; font-size: 14px\; white-space: pre-wrap\; background-color: rgb(255\, 255\, 255)\;" />\n<br style="color: rgb(29\, 33\, 41)\; font-family: Helvetica\, Arial\, sans-serif\; font-size: 14px\; white-space: pre-wrap\; background-color: rgb(255\, 255\, 255)\;" />\n<a href="https://www.facebook.com/jodibondinorgaard/" style="color: rgb(56\, 88\, 152)\; cursor: pointer\; text-decoration-line: none\; font-family: Helvetica\, Arial\, sans-serif\; font-size: 14px\; white-space: pre-wrap\; background-color: rgb(255\, 255\, 255)\;" target="_blank">Jodi Bondi Norgaard</a><span style="color: rgb(29\, 33\, 41)\; font-family: Helvetica\, Arial\, sans-serif\; font-size: 14px\; white-space: pre-wrap\; background-color: rgb(255\, 255\, 255)\;"> is the founder of Dream Big Toy Company and the creator of the award-winning Go! Go! Sports Girls dolls\, books\, and apps for girls encouraging healthy and active play over fashion and body image. </span><br style="color: rgb(29\, 33\, 41)\; font-family: Helvetica\, Arial\, sans-serif\; font-size: 14px\; white-space: pre-wrap\; background-color: rgb(255\, 255\, 255)\;" />\n<br style="color: rgb(29\, 33\, 41)\; font-family: Helvetica\, Arial\, sans-serif\; font-size: 14px\; white-space: pre-wrap\; background-color: rgb(255\, 255\, 255)\;" />\n<span style="color: rgb(29\, 33\, 41)\; font-family: Helvetica\, Arial\, sans-serif\; font-size: 14px\; white-space: pre-wrap\; background-color: rgb(255\, 255\, 255)\;">The event is open to the public. Cost is $25 per person. To purchase event tickets\, visit </span><a data-lynx-mode="hover" data-lynx-uri="https://l.facebook.com/l.php?u=http%3A%2F%2Fwww.mchenry.edu%2Frsvp%3Ffbclid%3DIwAR0x-tJ9EppmsoIyB58upv4P4Gva9Cj9R3t5lxc9cb36cuL4ax3oGouoCmI&amp\;h=AT1wnY7WQvoyJHk-U4Y3fxvOSziRb-RvkY3YQQN2x1EkrmwXM3MyVWGHr9yUJ3bVlHrepXxLtKDRyERfmKHiYA1djEliyLGqKUQLuTmhXM_M7oPC9hZDjeaHc5zAZW5Z" href="http://www.mchenry.edu/rsvp?fbclid=IwAR0x-tJ9EppmsoIyB58upv4P4Gva9Cj9R3t5lxc9cb36cuL4ax3oGouoCmI" rel="nofollow noopener" style="color: rgb(56\, 88\, 152)\; cursor: pointer\; text-decoration-line: none\; font-family: Helvetica\, Arial\, sans-serif\; font-size: 14px\; white-space: pre-wrap\; background-color: rgb(255\, 255\, 255)\;" target="_blank">www.mchenry.edu/rsvp</a><span style="color: rgb(29\, 33\, 41)\; font-family: Helvetica\, Arial\, sans-serif\; font-size: 14px\; white-space: pre-wrap\; background-color: rgb(255\, 255\, 255)\;">. For more information\, call the Friends of MCC Foundation at (815) 479-7529.</span><br style="color: rgb(29\, 33\, 41)\; font-family: Helvetica\, Arial\, sans-serif\; font-size: 14px\; white-space: pre-wrap\; background-color: rgb(255\, 255\, 255)\;" />\n<br style="color: rgb(29\, 33\, 41)\; font-family: Helvetica\, Arial\, sans-serif\; font-size: 14px\; white-space: pre-wrap\; background-color: rgb(255\, 255\, 255)\;" />\n<span style="color: rgb(29\, 33\, 41)\; font-family: Helvetica\, Arial\, sans-serif\; font-size: 14px\; white-space: pre-wrap\; background-color: rgb(255\, 255\, 255)\;">The Education to Empowerment scholarship provides financial support and ongoing mentorship for female students in their final year at MCC and continues to assist them as they continue their education at a four-year college or university.</span>
LOCATION:McHenry County College 8900 US Highway 14 Crystal Lake\, IL 60012
UID:e.2851.10384
SEQUENCE:3
DTSTAMP:20260423T085653Z
URL:https://business.woodstockilchamber.com/events/details/stronger-together-women-supporting-women-10384
END:VEVENT

END:VCALENDAR
