BEGIN:VCALENDAR
VERSION:2.0
PRODID:-//ChamberMaster//Event Calendar 2.0//EN
METHOD:PUBLISH
X-PUBLISHED-TTL:P3D
REFRESH-INTERVAL:P3D
CALSCALE:GREGORIAN
BEGIN:VEVENT
DTSTART:20200927T000000Z
DTEND:20200927T020000Z
X-MICROSOFT-CDO-ALLDAYEVENT:FALSE
SUMMARY:Studebaker John & The Hawks
DESCRIPTION:Studebaker John Grimaldi was born in an Italian-American section of Chicago and started playing harmonica at age 7. Under the spell of music he heard on Maxwell Street\, Chicago's famed blues melting pot\, Grimaldi began performing as Studebaker John and the Hawks in the '70s. The band name referenced the Studebaker Hawk\, a car Grimaldi still owns today\, and was also intended as a tribute to his friend\, J.B. Hutto and the Hawks.\n\nJohn began playing guitar after a life-changing experience of seeing Hound Dog Taylor and the Houserockers perform. " Hound Dog started playing\, hitting notes that sent chills up and down my spine. He was versatile and powerful and would play rhythm as well as leads. I left there knowing what I wanted to do. I had to play slide guitar."\n\nTICKETS: Free to the Public\n\n\n\nLOCATION: At the Park in the Square
X-ALT-DESC;FMTTYPE=text/html:<p>Studebaker John Grimaldi was born in an Italian-American section of Chicago and started playing harmonica at age 7. Under the spell of music he heard on Maxwell Street\, Chicago&rsquo\;s famed blues melting pot\, Grimaldi began performing as Studebaker John and the Hawks in the &lsquo\;70s. The band name referenced the Studebaker Hawk\, a car Grimaldi still owns today\, and was also intended as a tribute to his friend\, J.B. Hutto and the Hawks.</p>\n\n<p>John began playing guitar after a life-changing experience of seeing Hound Dog Taylor and the Houserockers perform. &ldquo\;&hellip\;Hound Dog started playing\, hitting notes that sent chills up and down my spine. He was versatile and powerful and would play rhythm as well as leads. I left there knowing what I wanted to do. I had to play slide guitar.&rdquo\;</p>\n\n<p>TICKETS: Free to the Public<br />\n<br />\nLOCATION: At the Park in the Square</p>\n
LOCATION:The Park in the Square Woodstock Square Historic District Woodstock\, IL 60098
UID:e.2851.12010
SEQUENCE:3
DTSTAMP:20260422T134608Z
URL:https://business.woodstockilchamber.com/events/details/studebaker-john-the-hawks-12010
END:VEVENT

END:VCALENDAR
