BEGIN:VCALENDAR
VERSION:2.0
PRODID:-//ChamberMaster//Event Calendar 2.0//EN
METHOD:PUBLISH
X-PUBLISHED-TTL:P3D
REFRESH-INTERVAL:P3D
CALSCALE:GREGORIAN
BEGIN:VEVENT
DTSTART:20200209T020000Z
DTEND:20200209T040000Z
X-MICROSOFT-CDO-ALLDAYEVENT:FALSE
SUMMARY:SWITCHBACK - Rivers\, Rails\, and Rodeos: An American Musical Portrait
DESCRIPTION:Switchback is the award-winning duo of Brian FitzGerald and Martin McCormack.\n\nAmericana Music is an amalgam of roots music formed by shared and varied traditions. During Switchback's Americana concert\, songs about dryland farming\, twisters and the flooding along the Mississippi are interspersed with tunes about lonely truckers\, working families\, soldiers and even a late night romance in the haybarn. And in true Midwestern fashion\, even some of the more serious topics are presented with a wry sense of humor. The duo will play mandolin\, acoustic guitar and bass and are known for an almost brother-like blending of voices.\n\nMusic Connection Magazine said: "The words 'American Roots & Celtic Soul' only begin to describe this act\, whose vocal prowess is as pure as it is unique."\n\n"Playing everything from bluegrass to country to blues to jazz and rock 'n' roll\, with Celtic thrown in as well\, Switchback has been on the road since 1993\, stopping only long enough to create some great albums and DVDs." - Rick Kogan\, Chicago Tribune
X-ALT-DESC;FMTTYPE=text/html:<p>Switchback is the award-winning duo of Brian FitzGerald and Martin McCormack.</p>\n\n<p>Americana Music is an amalgam of roots music formed by shared and varied traditions. During Switchback&rsquo\;s Americana concert\, songs about dryland farming\, twisters and the flooding along the Mississippi are interspersed with tunes about lonely truckers\, working families\, soldiers and even a late night romance in the haybarn. And in true Midwestern fashion\, even some of the more serious topics are presented with a wry sense of humor. The duo will play mandolin\, acoustic guitar and bass and are known for an almost brother-like blending of voices.</p>\n\n<p>Music Connection Magazine said: &quot\;The words &lsquo\;American Roots &amp\; Celtic Soul&rsquo\; only begin to describe this act\, whose vocal prowess is as pure as it is unique.&quot\;</p>\n\n<p>&quot\;Playing everything from bluegrass to country to blues to jazz and rock &#39\;n&#39\; roll\, with Celtic thrown in as well\, Switchback has been on the road since 1993\, stopping only long enough to create some great albums and DVDs.&quot\;&nbsp\;- Rick Kogan\, Chicago Tribune</p>\n
LOCATION:Woodstock Opera House 121 Van Buren Street Woodstock\, IL 60098
UID:e.2851.10667
SEQUENCE:3
DTSTAMP:20260423T020806Z
URL:https://business.woodstockilchamber.com/events/details/switchback-rivers-rails-and-rodeos-an-american-musical-portrait-02-08-2020-10667
END:VEVENT

END:VCALENDAR
