BEGIN:VCALENDAR
VERSION:2.0
PRODID:-//ChamberMaster//Event Calendar 2.0//EN
METHOD:PUBLISH
X-PUBLISHED-TTL:P3D
REFRESH-INTERVAL:P3D
CALSCALE:GREGORIAN
BEGIN:VEVENT
DTSTART:20200912T150000Z
DTEND:20200912T190000Z
X-MICROSOFT-CDO-ALLDAYEVENT:FALSE
SUMMARY:T-Mobile Public Grand Opening
DESCRIPTION:Join T-Mobile for a public grand opening!  Radio remote\n\nfrom Star 105.5 along with snacks and giveaways\n\nuntil supplies last.
X-ALT-DESC;FMTTYPE=text/html:Join T-Mobile for a public grand opening!&nbsp\; Radio remote<br />\nfrom Star 105.5 along with snacks and giveaways<br />\nuntil supplies last.
LOCATION:165 S. Eastwood Dr. Woodstock\, IL
UID:e.2851.12015
SEQUENCE:3
DTSTAMP:20260422T134755Z
URL:https://business.woodstockilchamber.com/events/details/t-mobile-public-grand-opening-12015
END:VEVENT

END:VCALENDAR
