BEGIN:VCALENDAR
VERSION:2.0
PRODID:-//ChamberMaster//Event Calendar 2.0//EN
METHOD:PUBLISH
X-PUBLISHED-TTL:P3D
REFRESH-INTERVAL:P3D
CALSCALE:GREGORIAN
BEGIN:VEVENT
DTSTART:20200301T230000Z
DTEND:20200302T000000Z
X-MICROSOFT-CDO-ALLDAYEVENT:FALSE
SUMMARY:Taize Evensong for Lent
DESCRIPTION:This candlelight prayer service\, led by St. Ann's choir\, offers inspirational music & meditation.  All are welcome.
X-ALT-DESC;FMTTYPE=text/html:<div><span style="color:black">This candlelight prayer service\, led by St. Ann&rsquo\;s choir\, offers inspirational music &amp\; meditation.&nbsp\;&nbsp\;</span><em>All are welcome</em><span style="color:black">.</span></div>\n
LOCATION:St. Ann's Episcopal Church 503 W. Jackson Ave Woodstock\, IL 60098
UID:e.2851.11228
SEQUENCE:3
DTSTAMP:20260423T002336Z
URL:https://business.woodstockilchamber.com/events/details/taize-evensong-for-lent-11228
END:VEVENT

END:VCALENDAR
