BEGIN:VCALENDAR
VERSION:2.0
PRODID:-//ChamberMaster//Event Calendar 2.0//EN
METHOD:PUBLISH
X-PUBLISHED-TTL:P3D
REFRESH-INTERVAL:P3D
CALSCALE:GREGORIAN
BEGIN:VEVENT
DTSTART:20260304T223000Z
DTEND:20260305T003000Z
X-MICROSOFT-CDO-ALLDAYEVENT:FALSE
SUMMARY:Taxes and Insurance: What Business Owners Need to Know
DESCRIPTION:Rising insurance costs and changing tax laws can create real challenges for small businesses. This session breaks down what you need to know to make informed decisions and protect your business. Learn from local experts\, then stay to network with fellow business owners.\n\nOpen to any small business.\n\nPresenters:\n\nKrista Piwonka\, CPA\n\nPresident\, Piwonka CPA\, Inc.\n\nKrista has over 14 years of experience helping micro and small businesses with accounting and tax planning. She specializes in bookkeeping\, payroll and sales tax returns\, income tax preparation\, and business planning. Krista is a member of the AICPA.\n\nChris Christensen\n\nVice President\, Neis Insurance\n\nChris has more than 20 years of experience helping businesses manage risk and insurance costs. His expertise includes workers' compensation\, employee benefits\, and coverage for a wide range of industries. Chris is a past McHenry County Board member and former Chair of the Crystal Lake Chamber.\n\nScan the QR code on the flyer to register.\n\nHosted by the Illinois SBDC at MCC Women Inspire Group.
X-ALT-DESC;FMTTYPE=text/html:<p data-end="658" data-start="388">Rising insurance costs and changing tax laws can create real challenges for small businesses. This session breaks down what you need to know to make informed decisions and protect your business. Learn from local experts\, then stay to network with fellow business owners.</p>\n\n<p data-end="687" data-start="660">Open to any small business.</p>\n\n<p data-end="706" data-start="689"><strong data-end="704" data-start="689">Presenters:</strong></p>\n\n<p data-end="1015" data-start="708"><strong data-end="731" data-start="708">Krista Piwonka\, CPA</strong><br data-end="734" data-start="731" />\nPresident\, Piwonka CPA\, Inc.<br data-end="765" data-start="762" />\nKrista has over 14 years of experience helping micro and small businesses with accounting and tax planning. She specializes in bookkeeping\, payroll and sales tax returns\, income tax preparation\, and business planning. Krista is a member of the AICPA.</p>\n\n<p data-end="1368" data-start="1017"><strong data-end="1038" data-start="1017">Chris Christensen</strong><br data-end="1041" data-start="1038" />\nVice President\, Neis Insurance<br data-end="1074" data-start="1071" />\nChris has more than 20 years of experience helping businesses manage risk and insurance costs. His expertise includes workers&rsquo\; compensation\, employee benefits\, and coverage for a wide range of industries. Chris is a past McHenry County Board member and former Chair of the Crystal Lake Chamber.</p>\n\n<p data-end="1412" data-start="1370">Scan the QR code on the flyer to register.</p>\n\n<p data-end="1469" data-start="1414">Hosted by the Illinois SBDC at MCC Women Inspire Group.</p>\n
LOCATION:McHenry County College | Catalyst Campus 222 Church Street\, Woodstock\, IL
UID:e.2851.18293
SEQUENCE:3
DTSTAMP:20260420T184906Z
URL:https://business.woodstockilchamber.com/events/details/taxes-and-insurance-what-business-owners-need-to-know-18293
END:VEVENT

END:VCALENDAR
