BEGIN:VCALENDAR
VERSION:2.0
PRODID:-//ChamberMaster//Event Calendar 2.0//EN
METHOD:PUBLISH
X-PUBLISHED-TTL:P3D
REFRESH-INTERVAL:P3D
CALSCALE:GREGORIAN
BEGIN:VEVENT
DTSTART:20201017T210000Z
DTEND:20201017T230000Z
X-MICROSOFT-CDO-ALLDAYEVENT:FALSE
SUMMARY:The Birds - Alfred Hitchcock Movie
DESCRIPTION:Hitchcock Movie Marathon at the Woodstock Opera House\n\n\n\nTHE BIRDS:\n\nMelanie Daniels (Tippi Hedren) meets Mitch Brenner (Rod Taylor) in a San Francisco pet store and decides to follow him home. She brings with her the gift of two love birds and they strike up a romance. One day birds start attacking children at Mitch's sisters party. A huge assault starts on the town by attacking birds. \n\nPG-13 | 1h 59min | Drama\, Horror\, Mystery \n\n \n\nTICKETS: $7.00 Each\n\n \n\nOnly 50 seats per showing. \n\n\n\nALSO SHOWING:\n\nPsycho | October 17 at 1 PM\n\nPsycho | October 24 at 4 PM\n\nPsycho | October 31 at 7 PM\n\nThe Birds | October 17 at 4 PM\n\nThe Birds | October 24 at 7 PM\n\nThe Birds | October 31 at 1 PM\n\nRear Window | October 17 at 7 PM\n\nRear Window | October 24 at 1 PM\n\nRear Window | October 31 at 4 PM\n\n\n\nhttps://www.woodstockoperahouse.com/operahouse/page/hitchcock-movie-marathon\n\n?
X-ALT-DESC;FMTTYPE=text/html:<span style="color:#333333"><span style="font-family:arial\,sans-serif"><span style="font-size:10.0pt">Hitchcock Movie Marathon at the Woodstock Opera House</span></span></span><br />\n<br />\n<strong><span style="color:black"><span style="font-family:arial\,sans-serif"><span style="font-size:10.0pt">THE BIRDS</span></span></span></strong><span style="color:black"><span style="font-family:arial\,sans-serif"><span style="font-size:10.0pt">:</span></span></span><br />\n<span style="color:black"><span style="font-family:arial\,sans-serif"><span style="font-size:10.0pt">Melanie Daniels (Tippi&nbsp\;Hedren) meets Mitch Brenner (Rod Taylor) in a San Francisco pet store and decides to follow him home. She brings with her the gift of two love birds and they strike up a romance. One day birds start attacking children at Mitch&#39\;s sisters party. A huge assault starts on the town by attacking birds.&nbsp\;</span></span></span><br />\n<span style="color:black"><span style="font-family:arial\,sans-serif"><span style="font-size:10.0pt">PG-13&nbsp\;|&nbsp\;1h 59min&nbsp\;|&nbsp\;Drama\,&nbsp\;Horror\,&nbsp\;Mystery&nbsp\;</span></span></span><br />\n&nbsp\;<br />\n<span style="color:#333333"><span style="font-family:arial\,sans-serif"><span style="font-size:10.0pt">TICKETS: $7.00 Each</span></span></span><br />\n&nbsp\;<br />\n<span style="color:#333333"><span style="font-family:arial\,sans-serif"><span style="font-size:10.0pt">Only 50 seats per showing.&nbsp\;</span></span></span><br />\n<br />\n<span style="color:#333333"><span style="font-family:arial\,sans-serif"><span style="font-size:10.0pt">ALSO SHOWING:<br />\nPsycho | October 17 at 1 PM<br />\nPsycho | October 24 at 4 PM<br />\nPsycho | October 31 at 7 PM<br />\nThe Birds | October 17 at 4 PM<br />\nThe Birds | October 24 at 7 PM<br />\nThe Birds | October 31 at 1 PM<br />\nRear Window | October 17 at 7 PM<br />\nRear Window | October 24 at 1&nbsp\;PM<br />\nRear Window | October 31 at 4 PM<br />\n<br />\nhttps://www.woodstockoperahouse.com/operahouse/page/hitchcock-movie-marathon<br />\n?</span></span></span>
LOCATION:Woodstock Opera House 121 Van Buren Street Woodstock\, IL 60098
UID:e.2851.12036
SEQUENCE:3
DTSTAMP:20260422T120838Z
URL:https://business.woodstockilchamber.com/events/details/the-birds-alfred-hitchcock-movie-12036
END:VEVENT

END:VCALENDAR
