BEGIN:VCALENDAR
VERSION:2.0
PRODID:-//ChamberMaster//Event Calendar 2.0//EN
METHOD:PUBLISH
X-PUBLISHED-TTL:P3D
REFRESH-INTERVAL:P3D
CALSCALE:GREGORIAN
BEGIN:VEVENT
DTSTART:20200112T200000Z
DTEND:20200112T220000Z
X-MICROSOFT-CDO-ALLDAYEVENT:FALSE
SUMMARY:The Lehman Trilogy
DESCRIPTION:A THEATRE CINEMA BROADCAST\n\nSaturday\,  January 12\, 2020 at 7:00 PM\n\nTHE LEHMAN TRILOGY\n\nBY STEFANO MASSINI ADAPTED BY BEN POWER \n\nDIRECTED BY SAM MENDES\n\nAcademy Award-winner Sam Mendes ( Skyfall \, The Ferryman ) directs Simon Russell Beale\, Adam Godley and Ben Miles who play the Lehman Brothers\, their sons and grandsons.\n\nOn a cold September morning in 1844 a young man from Bavaria stands on a New York dockside. Dreaming of a new life in the new world. He is joined by his two brothers and an American epic begins. 163 years later\, the firm they establish ? Lehman Brothers ? spectacularly collapses into bankruptcy\, and triggers the largest financial crisis in history.\n\n5 star reviews  ????? The Guardian\n\nPresented by Woodstock Opera House in partnership with National Theatre Live and distributed by BY Experience\n\nTICKETS: $18.00 Adult\, $15.00 Senior\, $13.00 Student\,  $13.00 Groups (20 or more)
X-ALT-DESC;FMTTYPE=text/html:<p>A THEATRE&nbsp\;CINEMA BROADCAST<br>\nSaturday\,&nbsp\;&nbsp\;January 12\,&nbsp\;2020&nbsp\;at 7:00 PM</p>\n\n<p>THE LEHMAN TRILOGY</p>\n\n<p>BY STEFANO MASSINI&nbsp\;ADAPTED BY BEN POWER&nbsp\;<br>\nDIRECTED BY SAM MENDES</p>\n\n<p>Academy Award-winner Sam Mendes&nbsp\;(&nbsp\;Skyfall&nbsp\;\,&nbsp\;The Ferryman&nbsp\;) directs&nbsp\;Simon Russell Beale\,&nbsp\;Adam Godley&nbsp\;and&nbsp\;Ben Miles&nbsp\;who play the Lehman Brothers\, their sons and grandsons.</p>\n\n<p>On a cold September morning in 1844 a young man from Bavaria stands on a New York dockside. Dreaming of a new life in the new world. He is joined by his two brothers and an American epic begins. 163 years later\, the firm they establish ? Lehman Brothers ? spectacularly collapses into bankruptcy\, and triggers the largest financial crisis in history.</p>\n\n<p>5 star reviews&nbsp\; ?????&nbsp\;The Guardian</p>\n\n<p>Presented by Woodstock Opera House in partnership with National Theatre Live and distributed by BY Experience</p>\n\n<p><a href="https://www.ticketreturn.com/prod2/Buy.asp?EventID=302500#.Xc2t2VdKiUl">TICKETS:&nbsp\;$18.00 Adult\, $15.00 Senior\, $13.00 Student\,&nbsp\; $13.00 Groups (20 or more)</a></p>\n
LOCATION:Woodstock Opera House 121 Van Buren Street Woodstock\, IL 60098
UID:e.2851.10451
SEQUENCE:3
DTSTAMP:20260423T041119Z
URL:https://business.woodstockilchamber.com/events/details/the-lehman-trilogy-10451
END:VEVENT

END:VCALENDAR
