BEGIN:VCALENDAR
VERSION:2.0
PRODID:-//ChamberMaster//Event Calendar 2.0//EN
METHOD:PUBLISH
X-PUBLISHED-TTL:P3D
REFRESH-INTERVAL:P3D
CALSCALE:GREGORIAN
BEGIN:VEVENT
DTSTART:20200202T200000Z
DTEND:20200202T200000Z
X-MICROSOFT-CDO-ALLDAYEVENT:FALSE
SUMMARY:The Making of Groundhog Day
DESCRIPTION:Come hear stories about the making of Groundhog Day in\n\n1992.  Bob Hudgins was the locations manager for Columbia\n\nPictures and worked with Harold Ramis to bring the production\n\nto Woodstock.  The puddle. The Bed & Breakfast. Bill Murray.\n\nYou'll enjoy the stories from behind the scenes.
X-ALT-DESC;FMTTYPE=text/html:Come hear stories about the making of Groundhog Day in<br />\n1992.&nbsp\; Bob Hudgins was the locations manager for Columbia<br />\nPictures and worked with Harold Ramis to bring the production<br />\nto Woodstock.&nbsp\; The puddle. The Bed &amp\; Breakfast. Bill Murray.<br />\nYou&#39\;ll enjoy the stories from behind the scenes.
LOCATION:Woodstock Opera House 121 W. Van Buren St. Woodstock\, IL
UID:e.2851.10465
SEQUENCE:3
DTSTAMP:20260423T034816Z
URL:https://business.woodstockilchamber.com/events/details/the-making-of-groundhog-day-10465
END:VEVENT

END:VCALENDAR
