BEGIN:VCALENDAR
VERSION:2.0
PRODID:-//ChamberMaster//Event Calendar 2.0//EN
METHOD:PUBLISH
X-PUBLISHED-TTL:P3D
REFRESH-INTERVAL:P3D
CALSCALE:GREGORIAN
BEGIN:VEVENT
DTSTART:20200202T020000Z
DTEND:20200202T040000Z
X-MICROSOFT-CDO-ALLDAYEVENT:FALSE
SUMMARY:The Mystery Hour with Jeff Houghton
DESCRIPTION:With eight seasons performed in front of a live studio audience\, and countless tour shows\, The Mystery Hour knows what it takes to create an experience you will be talking about for a long time. Customizing a non-televised\, live show specific to Woodstock\, The Mystery Hour will celebrate your community and the people that make it great. Also\, it will be hilarious. We promise.\n\n"He takes the time to get to know the people and bring them into the show\, I know that's something really unique and something we really loved."\n\n"The Mystery Hour Tour isn't a typical talk show. This high energy show has a cozy feel."
X-ALT-DESC;FMTTYPE=text/html:<p>With eight seasons performed in front of a live studio audience\, and countless tour shows\, The Mystery Hour knows what it takes to create an experience you will be talking about for a long time. Customizing a non-televised\, live show specific to Woodstock\, The Mystery Hour will celebrate your community and the people that make it great. Also\, it will be hilarious. We promise.</p>\n\n<p>&ldquo\;He takes the time to get to know the people and bring them into the show\, I know that&rsquo\;s something really unique and something we really loved.&rdquo\;<br />\n&ldquo\;The Mystery Hour Tour isn&rsquo\;t a typical talk show. This high energy show has a cozy feel.&rdquo\;</p>\n
LOCATION:Woodstock Opera House 121 Van Buren Street Woodstock\, IL 60098
UID:e.2851.10666
SEQUENCE:3
DTSTAMP:20260423T020623Z
URL:https://business.woodstockilchamber.com/events/details/the-mystery-hour-with-jeff-houghton-10666
END:VEVENT

END:VCALENDAR
