BEGIN:VCALENDAR
VERSION:2.0
PRODID:-//ChamberMaster//Event Calendar 2.0//EN
METHOD:PUBLISH
X-PUBLISHED-TTL:P3D
REFRESH-INTERVAL:P3D
CALSCALE:GREGORIAN
BEGIN:VEVENT
DTSTART:20191215T200000Z
DTEND:20191215T220000Z
X-MICROSOFT-CDO-ALLDAYEVENT:FALSE
SUMMARY:The Nutcracker Ballet
DESCRIPTION:Come enjoy the magic of the holiday season as the Judith Svalander Dance Theatre transforms the Opera House stage into a realm of fantasy.  Experience Clara's magical and enchanting journey as Tchaikovsky's world renowned music is brought to life through the talent and grace of Svalander's ballet company. \n\nPresented by Judith Svalander Dance Theatre\n\nTICKETS: $26.00 Adults & $19.00 Students\n\n(Final Dress Rehearsal $16.00 All Seats)
X-ALT-DESC;FMTTYPE=text/html:<p>Come enjoy the magic of the holiday season as the Judith Svalander Dance Theatre transforms the Opera House stage into a realm of fantasy.&nbsp\; Experience Clara&rsquo\;s magical and enchanting journey as Tchaikovsky&rsquo\;s world renowned music is brought to life through the talent and grace of Svalander&rsquo\;s ballet company.&nbsp\;</p>\n\n<h6><span style="font-size:14px">Presented by Judith Svalander Dance Theatre</span></h6>\n\n<h6><span style="font-size:14px">TICKETS:&nbsp\;$26.00 Adults &amp\; $19.00 Students</span></h6>\n\n<p><strong>(Final Dress Rehearsal $16.00 All Seats)</strong></p>\n\n<p>&nbsp\;</p>\n
LOCATION:Woodstock Opera House 121 Van Buren Street Woodstock\, IL 60098
UID:e.2851.10413
SEQUENCE:3
DTSTAMP:20260423T052929Z
URL:https://business.woodstockilchamber.com/events/details/the-nutcracker-ballet-12-15-2019-10413
END:VEVENT

END:VCALENDAR
