BEGIN:VCALENDAR
VERSION:2.0
PRODID:-//ChamberMaster//Event Calendar 2.0//EN
METHOD:PUBLISH
X-PUBLISHED-TTL:P3D
REFRESH-INTERVAL:P3D
CALSCALE:GREGORIAN
BEGIN:VEVENT
DTSTART:20200214T010000Z
DTEND:20200214T030000Z
X-MICROSOFT-CDO-ALLDAYEVENT:FALSE
SUMMARY:The Prado Museum: A Collection of Wonders - An Opera House Film Event
DESCRIPTION:THE PRADO MUSEUM: A COLLECTION OF WONDERS celebrates the 200th anniversary of the storied Prado Museum -- one of the most-visited museums in the world.  Hosted by Academy Award winner Jeremy Irons\, this cinematic journey offers viewers a spell-binding experience\, telling the story of Spain and beyond\, through the works of V lazquez\, Rubens\, Titian\, Mantegna\, Bosch\, Goya\, El Greco\, and more.\n\nPresented by Woodstock Opera House in partnership with Woodstock Fine Arts Association
X-ALT-DESC;FMTTYPE=text/html:<p>THE PRADO MUSEUM: A COLLECTION OF WONDERS celebrates the 200th anniversary of the storied Prado Museum -- one of the most-visited museums in the world.&nbsp\; Hosted by&nbsp\;Academy Award winner&nbsp\;Jeremy Irons\,&nbsp\;this cinematic journey offers viewers a spell-binding experience\, telling the story of Spain and beyond\, through the works of&nbsp\;V&eacute\;lazquez\, Rubens\, Titian\, Mantegna\, Bosch\, Goya\, El Greco\,&nbsp\;and more.</p>\n\n<h3>Presented by Woodstock Opera House in partnership with Woodstock Fine Arts Association</h3>\n
LOCATION:Woodstock Opera House 121 Van Buren Street Woodstock\, IL 60098
UID:e.2851.10669
SEQUENCE:3
DTSTAMP:20260423T021102Z
URL:https://business.woodstockilchamber.com/events/details/the-prado-museum-a-collection-of-wonders-an-opera-house-film-event-02-13-2020-10669
END:VEVENT

END:VCALENDAR
