BEGIN:VCALENDAR
VERSION:2.0
PRODID:-//ChamberMaster//Event Calendar 2.0//EN
METHOD:PUBLISH
X-PUBLISHED-TTL:P3D
REFRESH-INTERVAL:P3D
CALSCALE:GREGORIAN
BEGIN:VEVENT
DTSTART:20200301T020000Z
DTEND:20200301T040000Z
X-MICROSOFT-CDO-ALLDAYEVENT:FALSE
SUMMARY:The Way Down Wanderers
DESCRIPTION:Often referred to by fans as one of the hardest-working\, hardest-touring bands on the circuit today\, The Way Down Wanderers not only proves that classification with their jam-packed tour schedule but also on stage every night\, with youthful exuberance and a lively stage show\, as reliable as it is infectious.\n\nHigh energy percussion\, mandolin\, guitar\, bass\, banjo and fiddle weave seamlessly together to create an experience for fans that has sold out shows across the UK and the United States\, filling the front rows with fans not just singing along to one tune\, but singing along to all of them.
X-ALT-DESC;FMTTYPE=text/html:<p>Often referred to by fans as one of the hardest-working\, hardest-touring bands on the circuit today\, The Way Down Wanderers not only proves that classification with their jam-packed tour schedule but also on stage every night\, with youthful exuberance and a lively stage show\, as reliable as it is infectious.</p>\n\n<p>High energy percussion\, mandolin\, guitar\, bass\, banjo and fiddle weave seamlessly together to create an experience for fans that has sold out shows across the UK and the United States\, filling the front rows with fans not just singing along to one tune\, but singing along to all of them.&nbsp\;</p>\n
LOCATION:Woodstock Opera House 121 Van Buren Street Woodstock\, IL 60098
UID:e.2851.10676
SEQUENCE:3
DTSTAMP:20260423T020305Z
URL:https://business.woodstockilchamber.com/events/details/the-way-down-wanderers-10676
END:VEVENT

END:VCALENDAR
