BEGIN:VCALENDAR
VERSION:2.0
PRODID:-//ChamberMaster//Event Calendar 2.0//EN
METHOD:PUBLISH
X-PUBLISHED-TTL:P3D
REFRESH-INTERVAL:P3D
CALSCALE:GREGORIAN
BEGIN:VEVENT
DTSTART:20260502T000000Z
DTEND:20260517T213000Z
X-MICROSOFT-CDO-ALLDAYEVENT:FALSE
SUMMARY:Theatre 121 Presents: Calendar Girls
DESCRIPTION:Join Woodstock's Theatre 121 and the Black Box Theatre at McHenry County College for this heartwarming production based on the Miramax motion picture\, Calendar Girls. Directed by Jay Geller\, this theatrical performance follows a group of women who inspire and empower through their unique story. *Content warning: Calendar Girls includes adult themes such as cancer\, grief\, and brief implied nudity\, and may not be suitable for younger audiences.
X-ALT-DESC;FMTTYPE=text/html:Join Woodstock&#39\;s Theatre 121 and the Black Box Theatre at McHenry County College for this heartwarming production based on the Miramax motion picture\, Calendar Girls. Directed by Jay Geller\, this theatrical performance follows a group of women who inspire and empower through their unique story. *Content warning: Calendar Girls includes adult themes such as cancer\, grief\, and brief implied nudity\, and may not be suitable for younger audiences.
LOCATION:The Black Box Theatre at McHenry County College (Bldg E)\, 8900 Northwest Hwy\, Crystal Lake\, IL\, 60012
UID:e.2851.19157
SEQUENCE:3
DTSTAMP:20260420T183343Z
URL:https://business.woodstockilchamber.com/events/details/theatre-121-presents-calendar-girls-19157
END:VEVENT

END:VCALENDAR
