BEGIN:VCALENDAR
VERSION:2.0
PRODID:-//ChamberMaster//Event Calendar 2.0//EN
METHOD:PUBLISH
X-PUBLISHED-TTL:P3D
REFRESH-INTERVAL:P3D
CALSCALE:GREGORIAN
BEGIN:VEVENT
DTSTART:20191115T010000Z
DTEND:20191115T030000Z
X-MICROSOFT-CDO-ALLDAYEVENT:FALSE
SUMMARY:TINTORETTO: A Rebel in Venice
DESCRIPTION:GREAT ART ON SCREEN\n\nTintoretto: A Rebel in Venice fully immerses audiences in the life of the last great artist of the Italian Renaissance.   With the enchanting narrative voice of twice Academy Award nominee Helena Bonham Carter\, cinema audiences visit places that evoke and preserve the memory of the painter\, including the State Archives\, the Doge's Palace\, St. Mark's Square\, the Church of San Rocco\, and more\, all in celebration of the 500th anniversary of Tintoretto's birth.\n\nPresented by Woodstock Opera House in partnership with Woodstock Fine Arts Association\n\nTICKETS: $18.00 Adult\, $15.00 Senior\, $13.00 Student\,  $13.00 Groups (20 or more)
X-ALT-DESC;FMTTYPE=text/html:<h2>GREAT ART ON SCREEN</h2>\n\n<p>Tintoretto:&nbsp\;A Rebel in Venice&nbsp\;fully immerses audiences in the life of the last great artist of the Italian Renaissance.&nbsp\; &nbsp\;With the enchanting narrative voice of twice Academy Award nominee&nbsp\;Helena Bonham Carter\, cinema audiences visit places that evoke and preserve the memory of the painter\, including the State Archives\, the Doge&#39\;s Palace\, St. Mark&#39\;s Square\, the Church of San Rocco\, and more\, all in celebration of the&nbsp\;500th anniversary&nbsp\;of Tintoretto&rsquo\;s birth.</p>\n\n<h3>Presented by Woodstock Opera House in partnership with Woodstock Fine Arts Association</h3>\n\n<p>TICKETS:&nbsp\;$18.00 Adult\, $15.00 Senior\, $13.00 Student\,&nbsp\; $13.00 Groups (20 or more)</p>\n
LOCATION:Woodstock Opera House 121 W Van Buren Street Woodstock IL\, 60098
UID:e.2851.10405
SEQUENCE:3
DTSTAMP:20260423T085523Z
URL:https://business.woodstockilchamber.com/events/details/tintoretto-a-rebel-in-venice-10405
END:VEVENT

END:VCALENDAR
