BEGIN:VCALENDAR
VERSION:2.0
PRODID:-//ChamberMaster//Event Calendar 2.0//EN
METHOD:PUBLISH
X-PUBLISHED-TTL:P3D
REFRESH-INTERVAL:P3D
CALSCALE:GREGORIAN
BEGIN:VEVENT
DTSTART:20200319T210000Z
DTEND:20200319T230000Z
X-MICROSOFT-CDO-ALLDAYEVENT:FALSE
SUMMARY:TLS Veterans monthly food truck
DESCRIPTION:Yes\, the food truck will still be in operation at TLS Veterans this Thursday 3/19/2020\, but we are changing a few things in order to keep everyone safe.\n\n1. The building will not be open\, and everyone will be required to stay in their vehicles. A staff member will load your food items in your vehicle when you arrive.\n\n2. If you need anything from inside the building\, please come back another day.\n\n3. If you are 65 years or older please come to the TLS building no earlier then 4pm.\n\n4. If you are 64 years or younger your time is 5pm\, you will stage at Parkland school\, it is right around the corner (1802 N. Ringwood Rd\, McHenry\, IL 60050). We will send you over to TLS in blocks and you will receive your food items at that time.\n\n5. Please be patient with all of this as we are doing our best to assist every Veteran and their family during this difficult time.\n\n6. If you have any questions or concerns please contact us.
X-ALT-DESC;FMTTYPE=text/html:<span style="color:rgba(0\, 0\, 0\, 0.9)\; font-family:-apple-system\,system-ui\,blinkmacsystemfont\,segoe ui\,roboto\,helvetica neue\,fira sans\,ubuntu\,oxygen\,oxygen sans\,cantarell\,droid sans\,apple color emoji\,segoe ui emoji\,segoe ui symbol\,lucida grande\,helvetica\,arial\,sans-serif\; font-size:14px">Yes\, the food truck will still be in operation at TLS Veterans this Thursday 3/19/2020\, but we are changing a few things in order to keep everyone safe.<br />\n1. The building will not be open\, and everyone will be required to stay in their vehicles. A staff member will load your food items in your vehicle when you arrive.<br />\n2. If you need anything from inside the building\, please come back another day.<br />\n3. If you are 65 years or older please come to the TLS building no earlier then 4pm.<br />\n4. If you are 64 years or younger your time is 5pm\, you will stage at Parkland school\, it is right around the corner (1802 N. Ringwood Rd\, McHenry\, IL 60050). We will send you over to TLS in blocks and you will receive your food items at that time.<br />\n5. Please be patient with all of this as we are doing our best to assist every Veteran and their family during this difficult time.<br />\n6. If you have any questions or concerns please contact us.</span>
LOCATION:TLS Veterans
UID:e.2851.11261
SEQUENCE:3
DTSTAMP:20260423T001931Z
URL:https://business.woodstockilchamber.com/events/details/tls-veterans-monthly-food-truck-11261
END:VEVENT

END:VCALENDAR
