BEGIN:VCALENDAR
VERSION:2.0
PRODID:-//ChamberMaster//Event Calendar 2.0//EN
METHOD:PUBLISH
X-PUBLISHED-TTL:P3D
REFRESH-INTERVAL:P3D
CALSCALE:GREGORIAN
BEGIN:VEVENT
DTSTART:20200913T190000Z
DTEND:20200913T200000Z
X-MICROSOFT-CDO-ALLDAYEVENT:FALSE
SUMMARY:TLS Veterans Virtual Meat Raffe
DESCRIPTION:TLS Veterans will be having a virtual meat raffle this Sunday\, the 13th\, live on Facebook from 2:00 to 3:00pm.  You do not have to be watching to win.  100% of the proceeds go to the veterans we serve.  Get your raffle tickets in the link below.\n\nhttps://MeatRaffle2.givesmart.com
X-ALT-DESC;FMTTYPE=text/html:<div style="margin-left:0px\; margin-right:0px\; text-align:left">TLS Veterans will be having a virtual meat raffle this Sunday\, the 13th\, live on Facebook from 2:00 to 3:00pm.&nbsp\; You do not have to be watching to win.&nbsp\; 100% of the proceeds go to the veterans we serve.&nbsp\; Get your raffle tickets in the link below.<br />\n<a class="oajrlxb2 g5ia77u1 qu0x051f esr5mh6w e9989ue4 r7d6kgcz rq0escxv nhd2j8a9 nc684nl6 p7hjln8o kvgmc6g5 cxmmr5t8 oygrvhab hcukyx3x jb3vyjys rz4wbd8a qt6c0cv9 a8nywdso i1ao9s8h esuyzwwr f1sip0of lzcic4wl py34i1dx gpro0wi8" href="https://l.facebook.com/l.php?u=https%3A%2F%2FMeatRaffle2.givesmart.com%2F%3Ffbclid%3DIwAR18KxHMkPToFnDOOY0QnqREJbvbGwJssAnZGpAo8Hw_ZRYRZN7lFmubxR0&amp\;h=AT0EFLJiM_dNcewA4NjSfpz3zwi7ZIy90LLoWyfEk57FowguK4HzlvCx7MyciU3fL8LuW1-XqLwYaaA0ErEbcnZk5gjs4l-bpzZG96MgJ0M65SoC3oN8XhOIb_J0bBqKtd_fpGo&amp\;__tn__=-UK-R&amp\;c[0]=AT2_iuVmfA4M3VgpY_2elBuNwyJoV5QWqLdf2og3zM8P2hyhK0SlxGha5qKAmpUZ6KScNQJx_zNSnSRU2uyP9h7oNymqwIILD3wQDinO5dJSstG0k_zHqp7DCwIm2Y3yu6dPgfcVvJSaM_wl1ZZN4qXIv-3vWEB-x5alcp5sMLpVPWSN4G4gQ7wUnZE" rel="nofollow noopener" role="link" style="caret-color: rgb(0\, 0\, 0)\; color: var(--blue-link)\; cursor: pointer\; text-decoration: none\; outline: none\; list-style: none\; border: 0px\; padding: 0px\; margin: 0px\; touch-action: manipulation\; display: inline\; box-sizing: border-box\; font-family: system-ui\, -apple-system\, BlinkMacSystemFont\, &quot\;.SFNSText-Regular&quot\;\, sans-serif\; font-size: 15px\; white-space: pre-wrap\;" tabindex="0" target="_blank">https://MeatRaffle2.givesmart.com</a></div>\n
LOCATION:Live streamed on Facebook.
UID:e.2851.12013
SEQUENCE:3
DTSTAMP:20260422T134703Z
URL:https://business.woodstockilchamber.com/events/details/tls-veterans-virtual-meat-raffe-12013
END:VEVENT

END:VCALENDAR
