BEGIN:VCALENDAR
VERSION:2.0
PRODID:-//ChamberMaster//Event Calendar 2.0//EN
METHOD:PUBLISH
X-PUBLISHED-TTL:P3D
REFRESH-INTERVAL:P3D
CALSCALE:GREGORIAN
BEGIN:VEVENT
DTSTART:20201018T190000Z
DTEND:20201018T200000Z
X-MICROSOFT-CDO-ALLDAYEVENT:FALSE
SUMMARY:TLS Veterans Virtual Meat Raffle Oktoberfest Edition
DESCRIPTION:Join TLS Veterans for a virtual meat raffle hosted at Buddyz Pizzeria. We will be raffling off fresh meat packages at 2:00 pm on Sunday\, October 18th. Jim from Hub Market will be onsite making his famous Brats for $2\, so stop buy Buddyz to try one. The money will then be donated back to TLS Veterans. Tune in from our TLS Veterans Facebook page for the live stream to find out what meat packages you won!\n\n100% of proceeds will go to helping veterans.
X-ALT-DESC;FMTTYPE=text/html:<span style="background-color:rgb(255\, 255\, 255)\; color:rgb(51\, 51\, 51)\; font-family:sans-serif\,arial\,verdana\,trebuchet ms\; font-size:13px">Join TLS Veterans for a virtual meat raffle hosted at Buddyz Pizzeria. We will be raffling off fresh meat packages at 2:00 pm on Sunday\, October 18th. Jim from Hub Market will be onsite making his famous Brats for $2\, so stop buy Buddyz to try one. The money will then be donated back to TLS Veterans. Tune in from our TLS Veterans Facebook page for the live stream to find out what meat packages you won!</span><br />\n<span style="background-color:rgb(255\, 255\, 255)\; color:rgb(51\, 51\, 51)\; font-family:sans-serif\,arial\,verdana\,trebuchet ms\; font-size:13px">100% of proceeds will go to helping veterans.</span>
LOCATION:Log on to TLS Veterans facebook or visit Buddyz Pizzeria 1138 N Green St Mchenry\, IL 60050
UID:e.2851.12030
SEQUENCE:3
DTSTAMP:20260422T120549Z
URL:https://business.woodstockilchamber.com/events/details/tls-veterans-virtual-meat-raffle-oktoberfest-edition-12030
END:VEVENT

END:VCALENDAR
