BEGIN:VCALENDAR
VERSION:2.0
PRODID:-//ChamberMaster//Event Calendar 2.0//EN
METHOD:PUBLISH
X-PUBLISHED-TTL:P3D
REFRESH-INTERVAL:P3D
CALSCALE:GREGORIAN
BEGIN:VEVENT
DTSTART:20210103T170000Z
DTEND:20210103T180000Z
X-MICROSOFT-CDO-ALLDAYEVENT:FALSE
SUMMARY:TLS Veterans Virtual Spirits Pull
DESCRIPTION:TLS Veterans is hosting a virtual spirit pull streaming live on Facebook from Rush Creek Distillery.
X-ALT-DESC;FMTTYPE=text/html:TLS Veterans is hosting a virtual spirit pull streaming live on Facebook from Rush Creek Distillery.
LOCATION:Live streamed on Facebook from Rush Creek distillery.
UID:e.2851.12124
SEQUENCE:3
DTSTAMP:20260420T074239Z
URL:https://business.woodstockilchamber.com/events/details/tls-veterans-virtual-spirits-pull-12124
END:VEVENT

END:VCALENDAR
