BEGIN:VCALENDAR
VERSION:2.0
PRODID:-//ChamberMaster//Event Calendar 2.0//EN
METHOD:PUBLISH
X-PUBLISHED-TTL:P3D
REFRESH-INTERVAL:P3D
CALSCALE:GREGORIAN
BEGIN:VEVENT
DTSTART:20200221T010000Z
DTEND:20200221T030000Z
X-MICROSOFT-CDO-ALLDAYEVENT:FALSE
SUMMARY:To Kill a Mockingbird - Oscar Film Series
DESCRIPTION:Scout Finch (Mary Badham)\, 6\,and her older brother\, Jem (Phillip Alford)\, live in sleepy Maycomb\, Ala.\, spending much of their time with their friend Dill (John Megna) and spying on their reclusive and mysterious neighbor\, Boo Radley (Robert Duvall). When Atticus (Gregory Peck)\, their widowed father and a respected lawyer\, defends a black man named Tom Robinson (Brock Peters) against fabricated rape charges\, the trial and tangent events expose the children to evils of racism and stereotyping.\nPRESENTED BY WOODSTOCK OPERA HOUSE\nFuture Oscar Film Series Movies\n\nMarch 12 - Gone with the Wind\n\nApril 9  - Casablanca\n\nMay 7 - Citizen Kane\nTICKETS: $7.00 All Seats\nhttps://www.woodstockoperahouse.com/operahouse/page/kill-mockingbird-oscar-film-series
X-ALT-DESC;FMTTYPE=text/html:Scout Finch (Mary Badham)\, 6\,and her older brother\, Jem (Phillip Alford)\, live in sleepy Maycomb\, Ala.\, spending much of their time with their friend Dill (John Megna) and spying on their reclusive and mysterious neighbor\, Boo Radley (Robert Duvall). When Atticus (Gregory Peck)\, their widowed father&nbsp\;and a respected lawyer\, defends a black man named Tom Robinson (Brock Peters) against fabricated rape charges\, the trial and tangent events expose the children to evils of racism and stereotyping.\n<h5>PRESENTED BY WOODSTOCK OPERA HOUSE</h5>\n<strong>Future Oscar Film Series Movies</strong><br />\nMarch 12 - Gone with the Wind<br />\nApril 9&nbsp\; - Casablanca<br />\nMay 7 - Citizen Kane\n<h6><span style="font-size:11px">TICKETS:&nbsp\;$7.00 All Seats</span></h6>\n<a href="https://www.woodstockoperahouse.com/operahouse/page/kill-mockingbird-oscar-film-series">https://www.woodstockoperahouse.com/operahouse/page/kill-mockingbird-oscar-film-series</a>
LOCATION:Woodstock Opera House 121 Van Buren Street Woodstock\, IL 60098
UID:e.2851.11212
SEQUENCE:3
DTSTAMP:20260423T020709Z
URL:https://business.woodstockilchamber.com/events/details/to-kill-a-mockingbird-oscar-film-series-11212
END:VEVENT

END:VCALENDAR
