BEGIN:VCALENDAR
VERSION:2.0
PRODID:-//ChamberMaster//Event Calendar 2.0//EN
METHOD:PUBLISH
X-PUBLISHED-TTL:P3D
REFRESH-INTERVAL:P3D
CALSCALE:GREGORIAN
BEGIN:VEVENT
DTSTART:20200202T133000Z
DTEND:20200202T190000Z
X-MICROSOFT-CDO-ALLDAYEVENT:FALSE
SUMMARY:Tours of the Old Courthouse and Opera House
DESCRIPTION:While in Woodstock\, don't miss this chance to tour these gems.\n\nSee the courtroom and the old iron jail cells in the McHenry \n\nCounty Courthouse built in 185?  Take a tour of the Woodstock\n\nOpera House built in 18??  Orson Wells\, Paul Newman\, Judy\n\nCollins and Arlo Gurthrie are among the many stars who have \n\nperformed here.
X-ALT-DESC;FMTTYPE=text/html:While in Woodstock\, don&#39\;t miss this chance to tour these gems.<br />\nSee the courtroom and the old iron jail cells in the McHenry&nbsp\;<br />\nCounty Courthouse built in 185?&nbsp\; Take a tour of the Woodstock<br />\nOpera House built in 18??&nbsp\; Orson Wells\, Paul Newman\, Judy<br />\nCollins and Arlo Gurthrie are among the many stars who have&nbsp\;<br />\nperformed here.
LOCATION:Courthouse - 101 N. Johnson Opera House - 121 W. Van Buren
UID:e.2851.10454
SEQUENCE:3
DTSTAMP:20260423T020848Z
URL:https://business.woodstockilchamber.com/events/details/tours-of-the-old-courthouse-and-opera-house-10454
END:VEVENT

END:VCALENDAR
