BEGIN:VCALENDAR
VERSION:2.0
PRODID:-//ChamberMaster//Event Calendar 2.0//EN
METHOD:PUBLISH
X-PUBLISHED-TTL:P3D
REFRESH-INTERVAL:P3D
CALSCALE:GREGORIAN
BEGIN:VEVENT
DTSTART:20191031T210000Z
DTEND:20191031T223000Z
X-MICROSOFT-CDO-ALLDAYEVENT:FALSE
SUMMARY:Trick or Treat around the Historic Woodstock Square
DESCRIPTION:Bring your children and enjoy Trick or Treating on the Square along with the Annual Costume Contest under the Gazebo. Prizes will be awarded for the "scariest\," "funniest\," and "most original" costumes in five categories: 3 years & younger\, 4 to 8 years\, 9 to 13 years\, 14 & older\, and group. Neighborhood trick or treating hours are 4PM to 7PM.
X-ALT-DESC;FMTTYPE=text/html:<span style="color: rgba(0\, 0\, 0\, 0.6)\; font-family: freight-sans-pro\; font-size: 17px\; white-space: pre-wrap\; background-color: rgb(240\, 240\, 240)\;">Bring your children and enjoy Trick or Treating on the Square along with the Annual Costume Contest under the Gazebo. Prizes will be awarded for the &ldquo\;scariest\,&rdquo\; &ldquo\;funniest\,&rdquo\; and &ldquo\;most original&rdquo\; costumes in five categories: 3 years &amp\; younger\, 4 to 8 years\, 9 to 13 years\, 14 &amp\; older\, and group. Neighborhood trick or treating hours are 4PM to 7PM.</span>
LOCATION:Historic Woodstock Square
UID:e.2851.10399
SEQUENCE:3
DTSTAMP:20260423T090155Z
URL:https://business.woodstockilchamber.com/events/details/trick-or-treat-around-the-historic-woodstock-square-10399
END:VEVENT

END:VCALENDAR
