BEGIN:VCALENDAR
VERSION:2.0
PRODID:-//ChamberMaster//Event Calendar 2.0//EN
METHOD:PUBLISH
X-PUBLISHED-TTL:P3D
REFRESH-INTERVAL:P3D
CALSCALE:GREGORIAN
BEGIN:VEVENT
DTSTART:20190907T210000Z
DTEND:20190908T040000Z
X-MICROSOFT-CDO-ALLDAYEVENT:FALSE
SUMMARY:Truck Off
DESCRIPTION:Truck Off is the premiere food truck festival in Chicagoland with 30+ of the hottest regional food trucks\, live entertainment\, family games\, shopping\, drinks and more. \n\n\n\nTruck Off 2019 is 4 p.m.-11 p.m. (with VIP entry from 3 p.m.-4 p.m.) Saturday\, September 7. \n\n\n\nLimited VIP tickets include 2 drink tickets and are available here: eventbrite.com/e/truck-off-tickets-56514103204\n\n\n\nLIVE MUSIC: Headliner blues-rockers Jimmy Nick & Don't Tell Mama\; Ambrose King and the River Rats\; and "LUDY" John Puleo (Sinatra and the classics)
X-ALT-DESC;FMTTYPE=text/html:<span style="color: rgb(29\, 33\, 41)\; font-family: Helvetica\, Arial\, sans-serif\; font-size: 14px\; white-space: pre-wrap\; background-color: rgb(255\, 255\, 255)\;">Truck Off is the premiere food truck festival in Chicagoland with 30+ of the hottest regional food trucks\, live entertainment\, family games\, shopping\, drinks and more. </span><br style="color: rgb(29\, 33\, 41)\; font-family: Helvetica\, Arial\, sans-serif\; font-size: 14px\; white-space: pre-wrap\; background-color: rgb(255\, 255\, 255)\;" />\n<br style="color: rgb(29\, 33\, 41)\; font-family: Helvetica\, Arial\, sans-serif\; font-size: 14px\; white-space: pre-wrap\; background-color: rgb(255\, 255\, 255)\;" />\n<span style="color: rgb(29\, 33\, 41)\; font-family: Helvetica\, Arial\, sans-serif\; font-size: 14px\; white-space: pre-wrap\; background-color: rgb(255\, 255\, 255)\;">Truck Off 2019 is 4 p.m.-11 p.m. (with VIP entry from 3 p.m.-4 p.m.) Saturday\, September 7. </span><br style="color: rgb(29\, 33\, 41)\; font-family: Helvetica\, Arial\, sans-serif\; font-size: 14px\; white-space: pre-wrap\; background-color: rgb(255\, 255\, 255)\;" />\n<br style="color: rgb(29\, 33\, 41)\; font-family: Helvetica\, Arial\, sans-serif\; font-size: 14px\; white-space: pre-wrap\; background-color: rgb(255\, 255\, 255)\;" />\n<span style="color: rgb(29\, 33\, 41)\; font-family: Helvetica\, Arial\, sans-serif\; font-size: 14px\; white-space: pre-wrap\; background-color: rgb(255\, 255\, 255)\;">Limited VIP tickets include 2 drink tickets and are available here: </span><a data-lynx-mode="hover" data-lynx-uri="https://l.facebook.com/l.php?u=http%3A%2F%2Feventbrite.com%2Fe%2Ftruck-off-tickets-56514103204%3Ffbclid%3DIwAR17tyioMgh_LzT3WuGIHjuAR67IEbHjE774CAzhXfJCeOZx06hsiQKs0jM&amp\;h=AT2GeEW_2rBOfGG9TpW90C_DfK-ZsShcLs3rmZosGqpZk1JGQO6PhCzjdmbO5hWhwhr86ZMfdKrH55rFC7SELCel86o_nwJgpvSbw0B4Cibvt0tZJSZXT_dKP3_1BVHv" href="http://eventbrite.com/e/truck-off-tickets-56514103204?fbclid=IwAR17tyioMgh_LzT3WuGIHjuAR67IEbHjE774CAzhXfJCeOZx06hsiQKs0jM" rel="nofollow noopener" style="color: rgb(56\, 88\, 152)\; cursor: pointer\; text-decoration-line: none\; font-family: Helvetica\, Arial\, sans-serif\; font-size: 14px\; white-space: pre-wrap\; background-color: rgb(255\, 255\, 255)\;" target="_blank">eventbrite.com/e/truck-off-tickets-56514103204</a><br style="color: rgb(29\, 33\, 41)\; font-family: Helvetica\, Arial\, sans-serif\; font-size: 14px\; white-space: pre-wrap\; background-color: rgb(255\, 255\, 255)\;" />\n<br style="color: rgb(29\, 33\, 41)\; font-family: Helvetica\, Arial\, sans-serif\; font-size: 14px\; white-space: pre-wrap\; background-color: rgb(255\, 255\, 255)\;" />\n<span style="color: rgb(29\, 33\, 41)\; font-family: Helvetica\, Arial\, sans-serif\; font-size: 14px\; white-space: pre-wrap\; background-color: rgb(255\, 255\, 255)\;">LIVE MUSIC: Headliner blues-rockers </span><a href="https://www.facebook.com/jgoffron" style="color: rgb(56\, 88\, 152)\; cursor: pointer\; text-decoration-line: none\; font-family: Helvetica\, Arial\, sans-serif\; font-size: 14px\; white-space: pre-wrap\; background-color: rgb(255\, 255\, 255)\;" target="_blank">Jimmy Nick</a><span style="color: rgb(29\, 33\, 41)\; font-family: Helvetica\, Arial\, sans-serif\; font-size: 14px\; white-space: pre-wrap\; background-color: rgb(255\, 255\, 255)\;"> &amp\; Don&#39\;t Tell Mama\; </span><a href="https://www.facebook.com/Ambrose-King-and-the-River-Rats-131913922584/" style="color: rgb(56\, 88\, 152)\; cursor: pointer\; text-decoration-line: none\; font-family: Helvetica\, Arial\, sans-serif\; font-size: 14px\; white-space: pre-wrap\; background-color: rgb(255\, 255\, 255)\;" target="_blank">Ambrose King and the River Rats</a><span style="color: rgb(29\, 33\, 41)\; font-family: Helvetica\, Arial\, sans-serif\; font-size: 14px\; white-space: pre-wrap\; background-color: rgb(255\, 255\, 255)\;">\; and &quot\;LUDY&quot\; John Puleo (Sinatra and the classics) </span>
LOCATION:McHenry County Fair Association Fairgrounds 11900 Country Club Road Woodstock\, IL 60098
UID:e.2851.10215
SEQUENCE:3
DTSTAMP:20260423T105552Z
URL:https://business.woodstockilchamber.com/events/details/truck-off-10215
END:VEVENT

END:VCALENDAR
